BEGIN:VCALENDAR
VERSION:2.0
PRODID:-//Sigtunastiftelsen - ECPv4.6.25//NONSGML v1.0//EN
CALSCALE:GREGORIAN
METHOD:PUBLISH
X-WR-CALNAME:Sigtunastiftelsen
X-ORIGINAL-URL:https://sigtunastiftelsen.se/en/
X-WR-CALDESC:Events for Sigtunastiftelsen
BEGIN:VEVENT
DTSTART;TZID=UTC+1:20190510T100000
DTEND;TZID=UTC+1:20190510T120000
DTSTAMP:20260425T114107
CREATED:20190327T135622Z
LAST-MODIFIED:20191113T095622Z
UID:5174-1557482400-1557489600@sigtunastiftelsen.se
SUMMARY:Open lectures - Earth rights conference 2019
DESCRIPTION:Welcome to the open lectures of the Earth rights conference 2019 Friday May 10\, 10.00 – 12.00 at the Sigtuna Foundation. This part of the conference is open for public and free of charge.  \nEcological Jurisprudence: Going beyond Mechanistic Law – Henrik Hallgren\, Lodyn  \nThe Lake Erie Bill of Rights – People rising for nature in the US. \nMari Margil\, Community Environment Legal Defense Fund  \nHow The Amazon became a living breathing entity with Rights in the eyes of the Law. Gabriela Eslava Bejarano\, Dejusticia  \n
URL:https://sigtunastiftelsen.se/en/events/open-lectures-earth-rights-conference-2019/
LOCATION:Sigtunastiftelsen\, Manfred Björkquists allé 4\, Sigtuna\, Sigtuna\, 193 31
ATTACH;FMTTYPE=image/jpeg:https://sigtunastiftelsen.se/wp-content/uploads/2019/03/ERC250x165.jpg
ORGANIZER;CN="Sigtunastiftelsen":MAILTO:info@sigtunastiftelsen.se
END:VEVENT
END:VCALENDAR