BEGIN:VCALENDAR
VERSION:2.0
PRODID:-//Sigtunastiftelsen - ECPv4.6.25//NONSGML v1.0//EN
CALSCALE:GREGORIAN
METHOD:PUBLISH
X-WR-CALNAME:Sigtunastiftelsen
X-ORIGINAL-URL:https://sigtunastiftelsen.se/en/
X-WR-CALDESC:Events for Sigtunastiftelsen
BEGIN:VEVENT
DTSTART;TZID=UTC+1:20190407T133000
DTEND;TZID=UTC+1:20190407T163000
DTSTAMP:20260421T195507
CREATED:20190111T101044Z
LAST-MODIFIED:20191113T094931Z
UID:4135-1554643800-1554654600@sigtunastiftelsen.se
SUMMARY:Peacebuilding and conflict transformation
DESCRIPTION:We are inviting you to an afternoon of peacebuilding and conflict transformation. Together with 16 changemakers\, running peacebuilding initiatives in communities across the world affected by conflict\, you will have the opportunity to learn more about conflict transformation from those who practice it. \nThe afternoon will start with a lecture on technology’s role in the future of conflict transformation; showcasing  Uppsala University’s unique conflict data program (UCDP) and the revolutionary The ViEWS program\, that helps predict the next act of violence in ongoing conflicts. After the future-focused lecture\, the 16 changemakers will share inspirational stories of what they are doing today to transform conflict in their communities.  We then invite you to meet them over fika at the close of the event. \nThis event is a part of a yearlong fellowship program (GATHER Fellowship) organized by Seeds of Peace and SE Forum. Last year the participants derived from 8 different countries\, including Palestine\, Israel\, Pakistan and Cyprus. \n– In cooperation with Seeds of Peace\, SE Forum\, Uppsala University and Pax et Bellum \nThe open seminar is free of charge. Those who wish to have lunch before the seminar can make a reservation when you register to the event. ( 170 SEK.) \n
URL:https://sigtunastiftelsen.se/en/events/peacebuilding-and-conflict-transformation/
LOCATION:Sigtunastiftelsen\, Manfred Björkquists allé 4\, Sigtuna\, Sigtuna\, 193 31
ATTACH;FMTTYPE=image/jpeg:https://sigtunastiftelsen.se/wp-content/uploads/2019/01/Seeds-of-peace250x165.jpg
ORGANIZER;CN="Sigtunastiftelsen":MAILTO:info@sigtunastiftelsen.se
END:VEVENT
END:VCALENDAR