BEGIN:VCALENDAR
VERSION:2.0
PRODID:-//Sigtunastiftelsen - ECPv4.6.25//NONSGML v1.0//EN
CALSCALE:GREGORIAN
METHOD:PUBLISH
X-WR-CALNAME:Sigtunastiftelsen
X-ORIGINAL-URL:https://sigtunastiftelsen.se/en/
X-WR-CALDESC:Events for Sigtunastiftelsen
BEGIN:VEVENT
DTSTART;VALUE=DATE:20181201
DTEND;VALUE=DATE:20181227
DTSTAMP:20260421T155219
CREATED:20181020T123623Z
LAST-MODIFIED:20190110T133148Z
UID:2668-1543622400-1545868799@sigtunastiftelsen.se
SUMMARY:Swedish Christmas smorgasbord
DESCRIPTION:The Sigtuna Foundation is famous for its classical Christmas smorgasbord with all the traditional Swedish dishes. Our unique welcoming atmosphere contributes to the warm Christmas feeling we all are longing for. \nPrice: 595 SEK\nChildren 6 – 12 years 200 SEK\, children 0 – 5 years free \nWeekdays from 18o0\nSaturday 13.00 and 18.30\nSunday from 13.00 \nFor bookings and inquiries please call or email +48 8 592 589 19 or bokningen@sigtunastiftelsen.se \n
URL:https://sigtunastiftelsen.se/en/events/swedish-christmas-buffet/
LOCATION:Sigtunastiftelsen\, Manfred Björkquists allé 4\, Sigtuna\, Sigtuna\, 193 31
ATTACH;FMTTYPE=image/jpeg:https://sigtunastiftelsen.se/wp-content/uploads/2018/10/Julgran_O8H6440_rc-250x165.jpg
ORGANIZER;CN="Sigtunastiftelsen":MAILTO:info@sigtunastiftelsen.se
END:VEVENT
END:VCALENDAR