BEGIN:VCALENDAR
VERSION:2.0
PRODID:-//Sigtunastiftelsen - ECPv4.6.25//NONSGML v1.0//EN
CALSCALE:GREGORIAN
METHOD:PUBLISH
X-WR-CALNAME:Sigtunastiftelsen
X-ORIGINAL-URL:https://sigtunastiftelsen.se
X-WR-CALDESC:Events for Sigtunastiftelsen
BEGIN:VEVENT
DTSTART;TZID=UTC+1:20190115T080000
DTEND;TZID=UTC+1:20190303T170000
DTSTAMP:20260423T225411
CREATED:20181218T094657Z
LAST-MODIFIED:20190304T135647Z
UID:3623-1547539200-1551632400@sigtunastiftelsen.se
SUMMARY:Bill Johannes Hansen
DESCRIPTION:Bill målar stort och grafiskt. Han tecknar inledningsvis stora skisser\, leker med perspektiv och ger sig själv stor frihet inom de visuella ramar han upprättat. En linje leder till en annan i en oändlig labyrint. Spår som möts eller inte möts. Det handlar om att pussla ihop motiv och därefter hitta dess plats. Bill Hansen går andra året på Kandidatprogrammet på Konstfack med måleri som inriktning och har tilldelats årets Gustav Dalstipendium med följande motivering. \n”Bill har med envishet och fokus skapat ett personligt bildspråk som tog form redan under tiden på Sigtuna Folkhögskola. Han har ett personligt bildspråk som sätter nutiden i centrum. Bill hittar en balans mellan form\, färg och innehåll vilket ger möjlighet till ett konstnärskap som kommer bli mycket intressant att följa.” \nUtställningen visas i Rosengårdssalen på Sigtunastiftelsen. \n
URL:https://sigtunastiftelsen.se/events/bill-johannes-hansen-arets-gustav-dahlstipendiat/
LOCATION:Sigtunastiftelsen\, Manfred Björkquists allé 4\, Sigtuna\, Sigtuna\, 193 31
CATEGORIES:Konst
ATTACH;FMTTYPE=image/jpeg:https://sigtunastiftelsen.se/wp-content/uploads/2018/12/Billhansen250x165.jpg
ORGANIZER;CN="Sigtunastiftelsen":MAILTO:info@sigtunastiftelsen.se
END:VEVENT
BEGIN:VEVENT
DTSTART;TZID=UTC+1:20190201T190000
DTEND;TZID=UTC+1:20190201T190000
DTSTAMP:20260423T225411
CREATED:20181207T084405Z
LAST-MODIFIED:20190204T081222Z
UID:3454-1549047600-1549047600@sigtunastiftelsen.se
SUMMARY:Tunna platser - Musikandakt
DESCRIPTION:Den 1 februari firas varje år St Brigid på Irland – Imbolc\, ett firande av vårens ankomst. Kvällens St Brigid-firande lyfter fram miljöfrågan med föredrag\, dans\, poesi och musik. På Imbolc firar och lovsjunger man våren\, naturen och allt nytt och levande. De som är engagerade i planetens framtid kan få inspiration från den vördnad som den kristkeltiska traditionen hade för naturen\, den lokala förankringen och kreativitetens roll. Naturkänslan baserades på en Gudsnärvaro i naturen – tunna platser – och en helhetssyn att allt hör samman och samverkar. Denna helhetssyn knyter an till ett nutida ekologiskt synsätt\, där yttre hållbarhet kopplas till inre hållbarhet och omställning\, liksom till lokal social och kulturell hållbarhet\, och där en ny relation till naturen måste upprättas. \nUnder medeltiden var St Brigid ett viktigt helgon i stora delar av Europa\, även i Sverige. Olof Skötkonung sägs ha döpts i St Brigidkällan i Husaby och den heliga Birgitta fick sitt namn efter St Brigid. Idag har St Bridgid aktualiserats som en andlig resurs för både miljöfrågor och social rättvisa\, kvinnofrågor\, konst och kreativitet. \nMedverkar gör bland andra Helen Kavanagh Berglund\, biträdande kommundirektör i Sigtuna kommun med ett föredrag om lokalt miljöarbete och sina irländska kopplingar till St Brigid\, Kajsa Franke från Firebird Event\, dans och Dan-Erik Sahlberg\, flöjt och gitarr. \nI samverkan med Nya Omställning Sigtuna \n  \n
URL:https://sigtunastiftelsen.se/events/tunna-platser/
LOCATION:Sigtunastiftelsen\, Manfred Björkquists allé 4\, Sigtuna\, Sigtuna\, 193 31
CATEGORIES:Musik
ATTACH;FMTTYPE=image/jpeg:https://sigtunastiftelsen.se/wp-content/uploads/2018/12/vintertornpuff250x165.jpg
ORGANIZER;CN="Sigtunastiftelsen":MAILTO:info@sigtunastiftelsen.se
END:VEVENT
END:VCALENDAR