BEGIN:VCALENDAR
VERSION:2.0
PRODID:-//Sigtunastiftelsen - ECPv4.6.25//NONSGML v1.0//EN
CALSCALE:GREGORIAN
METHOD:PUBLISH
X-WR-CALNAME:Sigtunastiftelsen
X-ORIGINAL-URL:https://sigtunastiftelsen.se
X-WR-CALDESC:Events for Sigtunastiftelsen
BEGIN:VEVENT
DTSTART;TZID=UTC+1:20190830T160000
DTEND;TZID=UTC+1:20191013T170000
DTSTAMP:20260423T222933
CREATED:20190702T085725Z
LAST-MODIFIED:20191014T084512Z
UID:6358-1567180800-1570986000@sigtunastiftelsen.se
SUMMARY:Bokpoesi
DESCRIPTION:Anna Kristiansson är konstnär och arbetar främst genom att stryka över text i böcker\, men spara utvalda ord och meningar. De ord som lämnats kvar blir till en dikt med ett helt eget budskap. Genom sin poesi vill Anna få människor att se något nytt och känna det oväntade. Dikterna utforskar det existentiella i tillvaron och försöker reda ut hur livet kan lösa sig och samtidigt inte lösa sig\, för att sedan lösa sig igen. Anna Kristiansson har sedan 2014 ett uppskattat Instagramkonto där hon publicerar sina texter. Kontot heter @Bokpoesi och har över 14 000 följare. Anna har även ställt ut på Kulturhuset i Stockholm\, varit med i Moderna Museets projekt Acclimatize samt blivit publicerat i en antologi av det norska bokförlaget Cappelen Damm. \n
URL:https://sigtunastiftelsen.se/events/bokpoesi/
LOCATION:Sigtunastiftelsen\, Manfred Björkquists allé 4\, Sigtuna\, Sigtuna\, 193 31
CATEGORIES:Konst
ATTACH;FMTTYPE=image/jpeg:https://sigtunastiftelsen.se/wp-content/uploads/2019/07/kristianssonanna250x165.jpg
ORGANIZER;CN="Sigtunastiftelsen":MAILTO:info@sigtunastiftelsen.se
END:VEVENT
BEGIN:VEVENT
DTSTART;TZID=UTC+1:20190920T093000
DTEND;TZID=UTC+1:20190920T160000
DTSTAMP:20260423T222934
CREATED:20190705T084632Z
LAST-MODIFIED:20191002T123101Z
UID:6576-1568971800-1568995200@sigtunastiftelsen.se
SUMMARY:Abrahams Barns Julkrubba
DESCRIPTION:Abrahams Julkrubba är en introduktionskurs som riktar sig till bibliotekarier\, pedagoger och lärare för alla åldrar. Abrahams Barns Julkrubba berättar om Jesu födelse enligt de texter som finns att läsa i både Bibeln och Koranen och under denna kurs får du lära dig hur denna kan bli ett konkret pedagogiskt redskap i ett mångreligiöst och mångkulturellt sammanhang. Abrahams barns metod och verksamhet presenteras även under kursen. Anmälan senast 12 september. \nMer info: elisabet.mattizon-armgard@sigtunastiftelsen.se; 08 – 592 589 98 \n  \n
URL:https://sigtunastiftelsen.se/events/abrahams-barns-julkrubba-2/
LOCATION:Sigtunastiftelsen\, Manfred Björkquists allé 4\, Sigtuna\, Sigtuna\, 193 31
CATEGORIES:Seminarier & Kurser
ATTACH;FMTTYPE=image/jpeg:https://sigtunastiftelsen.se/wp-content/uploads/2019/03/Abrahamsbarn_250x165.jpg
ORGANIZER;CN="Sigtunastiftelsen":MAILTO:info@sigtunastiftelsen.se
END:VEVENT
END:VCALENDAR