BEGIN:VCALENDAR
VERSION:2.0
PRODID:-//Sigtunastiftelsen - ECPv4.6.25//NONSGML v1.0//EN
CALSCALE:GREGORIAN
METHOD:PUBLISH
X-WR-CALNAME:Sigtunastiftelsen
X-ORIGINAL-URL:https://sigtunastiftelsen.se
X-WR-CALDESC:Events for Sigtunastiftelsen
BEGIN:VEVENT
DTSTART;VALUE=DATE:20191014
DTEND;VALUE=DATE:20191018
DTSTAMP:20260421T045427
CREATED:20190708T123511Z
LAST-MODIFIED:20191022T140933Z
UID:6636-1571011200-1571356799@sigtunastiftelsen.se
SUMMARY:Peaceful coexistence
DESCRIPTION:The Arab Europe Citizens dialogue är en mångårig dialog som alltsedan starten 2010 lyft frågor om relationen mellan religion\, politik och demokrati. Ett flertal konferenser har genomförts under åren\, där både den europeiska och den arabiska kontexten har varit utgångspunkt för samtalen. Denna konferens äger rum i Kairo\, Egypten och riktar sig i första hand till representanter för civilsamhället. Det övergripande temat är hur vi människor\, trots både sociala\, kulturella och religiösa olikheter ska kunna samexistera i en fredlig värld. Konferensen arrangeras av Coptic Evangelical Organization for Social Services (CEOSS)\, Sigtunastiftelsen och Oikosnet Europe i samverkan. Språket för hela konferensen är engelska.\nFör vidare information vänligen kontakta alf.linderman@sigtunastiftelsen.se. \n  \n
URL:https://sigtunastiftelsen.se/events/peaceful-coexistence/
LOCATION:Kairo\, Kairo\, Egypten
CATEGORIES:Seminarier & Kurser
ATTACH;FMTTYPE=image/jpeg:https://sigtunastiftelsen.se/wp-content/uploads/2019/07/250px-Pyramides_gizeh.jpg
END:VEVENT
BEGIN:VEVENT
DTSTART;TZID=UTC+1:20191015T190000
DTEND;TZID=UTC+1:20191015T203000
DTSTAMP:20260421T045427
CREATED:20190703T111332Z
LAST-MODIFIED:20191021T080701Z
UID:6423-1571166000-1571171400@sigtunastiftelsen.se
SUMMARY:Nya litterära röster
DESCRIPTION:Kom och lyssna till den nya författargenerationen i en uppläsningskväll med Biskops-Arnös författarelever årskurs 1. Sedan 1960-talet är Biskops-Arnö Nordens Folkhögskola en ledande mötesplats för författare\, kritiker\, litteraturforskare från hela Norden. Många av de senaste decenniernas tongivande författare\, ofta socialt medvetna\, har gått där. Författarskolan ger plats åt angelägna berättelser\, utifrån vitt skilda perspektiv\, en brokig skara röster med den gemensamma nämnaren att språket och litteraturen är deras nödvändighet och oundgängliga uttrycksform. \nI samverkan med Biskops-Arnö Nordens folkhögskola \n  \n
URL:https://sigtunastiftelsen.se/events/nya-litterara-roster/
LOCATION:Sigtunastiftelsens Bibliotek\, Manfred Björkquists allé 4\, Sigtuna\, 193 31
CATEGORIES:Författarmöten
ATTACH;FMTTYPE=image/jpeg:https://sigtunastiftelsen.se/wp-content/uploads/2019/07/bibliotekx250.jpg
ORGANIZER;CN="Sigtunastiftelsen":MAILTO:info@sigtunastiftelsen.se
END:VEVENT
END:VCALENDAR