BEGIN:VCALENDAR
VERSION:2.0
PRODID:-//Sigtunastiftelsen - ECPv4.6.25//NONSGML v1.0//EN
CALSCALE:GREGORIAN
METHOD:PUBLISH
X-WR-CALNAME:Sigtunastiftelsen
X-ORIGINAL-URL:https://sigtunastiftelsen.se
X-WR-CALDESC:Events for Sigtunastiftelsen
BEGIN:VEVENT
DTSTART;TZID=UTC+1:20191016T090000
DTEND;TZID=UTC+1:20191111T170000
DTSTAMP:20260423T202224
CREATED:20190703T115239Z
LAST-MODIFIED:20191118T100653Z
UID:6430-1571216400-1573491600@sigtunastiftelsen.se
SUMMARY:Mänskligt landskap orättvist fördelat
DESCRIPTION:Olof Hellström (1923 – 2017) är kanske mest känd för sina offentliga arbeten i Uppsala varav broräcket vid Islandsfallet\, utformningen av Missionskyrkan samt skulpturen Befrielsen på MartinLuther Kings plats är några. Olof studerade liksom sin far\, farfar och farfars far vid Konstfack i Stockholm och fortsatte därefter vid Otte Skölds målarskola. Han arbetade en period i skulptören Zadkines ateljé i Paris och lockades på 1950-talet till Uppsala av Bror Hjorth som erbjöd honom en ateljé. Skulptur med bronsen i fokus blev hans primära uttryck och den kristna humanismen präglade hans konstsyn och livsgärning. Inför Kyrkornas världsråds generalförsamling i Uppsala 1968 skapade Olof den ljusbärare – Folkförsoningens träd – som kommit att bli en självklar plats för bön och eftertanke i Uppsala Domkyrka. Under sitt långa konstnärsliv har Olof Hellström haft många separatutställningar med både måleri och skulptur. 2013 visades en retrospektiv utställning på Uppsala konstmuseum. \nElisabet Hermodsson (1927 – 2017) var en mångsidig och gränsöverskridande konstnär\, utbildad vid Konstfack. Hon komponerade visor\, skrev poesi\, målade och var en skarp debattör och kulturskribent. Hon influerades av kinesisk kalligrafi\, ristningar och linjer i naturen och kom att skapa sin alldeles egna komposition av måleri och poesi. Bilddikterna visades för första gången 1959 i Uppsala Universitets konststudio och fick stort erkännande. Elisabet var ekoteolog\, kristen feminist och en av de första kvinnliga kompositörerna som framförde sina egna visor. Idag kan vi även beundra hennes förmåga att tidigt kritisera den moderna vetenskapen som hon tyckte ledde till exploatering och förstörelse av naturen. \nElisabet och Olof träffades och gifte sig 1956 och paret kom att bli en dynamisk konstnärsduo i Uppsalas kulturliv. Ett av Olofs verk var att formge Berthågas klockstapel där även Elisabets poesi finns ingraverad. Lis Hellström har varit med och gjort urvalet till denna utställning som endast visar en bråkdel av parets livsgärning. Ett par av Elisabets bilddikter samsas med en liten samling av Olles små skulpturer. Lis Hellström är Olle och Elisabets dotter. Även Lis är konstnär och blev den femte generationen i familjen att gå Konstfack. \nVernissage 19 oktober 13.00 – 17.00 \n  \n  \n
URL:https://sigtunastiftelsen.se/events/manskligt-landskap-orattvist-fordelat/
LOCATION:Sigtunastiftelsen\, Manfred Björkquists allé 4\, Sigtuna\, Sigtuna\, 193 31
CATEGORIES:Konst
ATTACH;FMTTYPE=image/jpeg:https://sigtunastiftelsen.se/wp-content/uploads/2019/07/Olof-Hellström-Befrielsenx250.jpg
ORGANIZER;CN="Sigtunastiftelsen":MAILTO:info@sigtunastiftelsen.se
END:VEVENT
BEGIN:VEVENT
DTSTART;TZID=UTC+1:20191023T130000
DTEND;TZID=UTC+1:20191023T140000
DTSTAMP:20260423T202224
CREATED:20190703T131236Z
LAST-MODIFIED:20191028T105037Z
UID:6452-1571835600-1571839200@sigtunastiftelsen.se
SUMMARY:Mikael Niemi
DESCRIPTION:Samtalet är flyttat till SSHL:s aula! Endast förbokade platser. \nÅr 2000 gjorde Mikael Niemi stor succé hos både läsare och kritiker med romanen Populärmusik från Vittula\, som blev belönad med Augustpriset och senare har filmatiserats och översatts till många språk. Han är uppväxt och boende i Pajala\, började att skriva dikter och noveller i femtonårsåldern och drömde tidigt om att bli författare. Efter att ha studerat till gymnasieingenjör i Luleå\, debuterade han 29 år gammal 1988 med diktsamlingen Näsblod under högmässan och som romanförfattare 1994 med ungdomsboken Kyrkdjävulen. Han har skrivit lyrik\, prosa och dramatik för både radio och scen. Mycket av inspirationen kommer från den egna uppväxten i det tvåspråkiga Pajala i Tornedalen. Hans senaste roman Koka björn kom 2016 och handlar om prosten Lars Levi Laestadius. \nI samverkan med Sigtunaskolan Humanistiska Läroverket \n
URL:https://sigtunastiftelsen.se/events/mikael-niemi/
LOCATION:Sigtunastiftelsen\, Manfred Björkquists allé 4\, Sigtuna\, Sigtuna\, 193 31
ATTACH;FMTTYPE=image/jpeg:https://sigtunastiftelsen.se/wp-content/uploads/2019/07/Niemi_Mikaelx250.jpg
ORGANIZER;CN="Sigtunastiftelsen":MAILTO:info@sigtunastiftelsen.se
END:VEVENT
BEGIN:VEVENT
DTSTART;TZID=UTC+1:20191023T190000
DTEND;TZID=UTC+1:20191023T210000
DTSTAMP:20260423T202224
CREATED:20190708T134537Z
LAST-MODIFIED:20191028T104945Z
UID:6647-1571857200-1571864400@sigtunastiftelsen.se
SUMMARY:Campfire Stories
DESCRIPTION:Filmaren Mattias Olsson\, filmplattformen Campfire Stories grundare\, berättar om sin väg från den vanliga filmbranschen till att bli ”omställningsfilmare” och visar några av sina kortfilmer. Campfire Stories är en filmplattform för framtiden\, med rötter i gåvoekonomin\, som söker alternativa konstnärliga vägar mot en värld i ekologisk balans. Syftet är att ge kollektiv uppmärksamhet åt grundorsaker till våra globala problem förmedlade genom filmade individuella berättelser. Plattformen innehåller idag 15 filmer och nya titlar är under produktion. Vi får bl.a. se kortfilmen ”An Unlearning”\, som handlar om den uppmärksammade omställningsfilosofen och författaren Charles Eisenstein. \nI samverkan med Nya Omställning Sigtuna och Naturskyddsföreningen i Sigtunabygden \n
URL:https://sigtunastiftelsen.se/events/campfire-stories/
LOCATION:Sigtunastiftelsens Bibliotek\, Manfred Björkquists allé 4\, Sigtuna\, Sigtuna\, 193 31
CATEGORIES:Film
ATTACH;FMTTYPE=image/jpeg:https://sigtunastiftelsen.se/wp-content/uploads/2019/07/MattiaSx250.jpg
ORGANIZER;CN="Sigtunastiftelsen":MAILTO:info@sigtunastiftelsen.se
END:VEVENT
END:VCALENDAR