BEGIN:VCALENDAR
VERSION:2.0
PRODID:-//Sigtunastiftelsen - ECPv4.6.25//NONSGML v1.0//EN
CALSCALE:GREGORIAN
METHOD:PUBLISH
X-WR-CALNAME:Sigtunastiftelsen
X-ORIGINAL-URL:https://sigtunastiftelsen.se
X-WR-CALDESC:Events for Sigtunastiftelsen
BEGIN:VEVENT
DTSTART;TZID=UTC+1:20191016T090000
DTEND;TZID=UTC+1:20191111T170000
DTSTAMP:20260424T212123
CREATED:20190703T115239Z
LAST-MODIFIED:20191118T100653Z
UID:6430-1571216400-1573491600@sigtunastiftelsen.se
SUMMARY:Mänskligt landskap orättvist fördelat
DESCRIPTION:Olof Hellström (1923 – 2017) är kanske mest känd för sina offentliga arbeten i Uppsala varav broräcket vid Islandsfallet\, utformningen av Missionskyrkan samt skulpturen Befrielsen på MartinLuther Kings plats är några. Olof studerade liksom sin far\, farfar och farfars far vid Konstfack i Stockholm och fortsatte därefter vid Otte Skölds målarskola. Han arbetade en period i skulptören Zadkines ateljé i Paris och lockades på 1950-talet till Uppsala av Bror Hjorth som erbjöd honom en ateljé. Skulptur med bronsen i fokus blev hans primära uttryck och den kristna humanismen präglade hans konstsyn och livsgärning. Inför Kyrkornas världsråds generalförsamling i Uppsala 1968 skapade Olof den ljusbärare – Folkförsoningens träd – som kommit att bli en självklar plats för bön och eftertanke i Uppsala Domkyrka. Under sitt långa konstnärsliv har Olof Hellström haft många separatutställningar med både måleri och skulptur. 2013 visades en retrospektiv utställning på Uppsala konstmuseum. \nElisabet Hermodsson (1927 – 2017) var en mångsidig och gränsöverskridande konstnär\, utbildad vid Konstfack. Hon komponerade visor\, skrev poesi\, målade och var en skarp debattör och kulturskribent. Hon influerades av kinesisk kalligrafi\, ristningar och linjer i naturen och kom att skapa sin alldeles egna komposition av måleri och poesi. Bilddikterna visades för första gången 1959 i Uppsala Universitets konststudio och fick stort erkännande. Elisabet var ekoteolog\, kristen feminist och en av de första kvinnliga kompositörerna som framförde sina egna visor. Idag kan vi även beundra hennes förmåga att tidigt kritisera den moderna vetenskapen som hon tyckte ledde till exploatering och förstörelse av naturen. \nElisabet och Olof träffades och gifte sig 1956 och paret kom att bli en dynamisk konstnärsduo i Uppsalas kulturliv. Ett av Olofs verk var att formge Berthågas klockstapel där även Elisabets poesi finns ingraverad. Lis Hellström har varit med och gjort urvalet till denna utställning som endast visar en bråkdel av parets livsgärning. Ett par av Elisabets bilddikter samsas med en liten samling av Olles små skulpturer. Lis Hellström är Olle och Elisabets dotter. Även Lis är konstnär och blev den femte generationen i familjen att gå Konstfack. \nVernissage 19 oktober 13.00 – 17.00 \n  \n  \n
URL:https://sigtunastiftelsen.se/events/manskligt-landskap-orattvist-fordelat/
LOCATION:Sigtunastiftelsen\, Manfred Björkquists allé 4\, Sigtuna\, Sigtuna\, 193 31
CATEGORIES:Konst
ATTACH;FMTTYPE=image/jpeg:https://sigtunastiftelsen.se/wp-content/uploads/2019/07/Olof-Hellström-Befrielsenx250.jpg
ORGANIZER;CN="Sigtunastiftelsen":MAILTO:info@sigtunastiftelsen.se
END:VEVENT
BEGIN:VEVENT
DTSTART;TZID=UTC+1:20191104T190000
DTEND;TZID=UTC+1:20191104T210000
DTSTAMP:20260424T212123
CREATED:20190709T072951Z
LAST-MODIFIED:20191111T151733Z
UID:6659-1572894000-1572901200@sigtunastiftelsen.se
SUMMARY:Artist in Residence Sigtuna
DESCRIPTION:Artist in Residence Sigtuna är Sigtuna Museum & Arts nystartade residenceprogram för konstnärer som är intresserade av att bo och verka under en period utifrån platsen Sigtuna. Huset Urmakaren från 1870 med dess tillhörande trädgård med anor från 1000-talet kommer att bli ett tillfälligt hem för en stipendiat under tre veckor i september. Syftet är att aktivera en plats med konstnärligt utbyte och skapa rum för kreativitet. Kultursamtalet kommer handla om den aktuella konstnärens studier och arbete\, konstnärskap och resultatet av residenceprogrammet i Sigtuna. \nI samverkan med Sigtuna folkhögskola och Sigtuna Museum & Arts \n  \n
URL:https://sigtunastiftelsen.se/events/artist-in-residence-sigtuna/
LOCATION:Sigtunastiftelsen\, Manfred Björkquists allé 4\, Sigtuna\, Sigtuna\, 193 31
CATEGORIES:Seminarier & Kurser
ATTACH;FMTTYPE=image/jpeg:https://sigtunastiftelsen.se/wp-content/uploads/2019/07/urmakarenx250.jpg
ORGANIZER;CN="Sigtunastiftelsen":MAILTO:info@sigtunastiftelsen.se
END:VEVENT
END:VCALENDAR