BEGIN:VCALENDAR
VERSION:2.0
PRODID:-//Sigtunastiftelsen - ECPv4.6.25//NONSGML v1.0//EN
CALSCALE:GREGORIAN
METHOD:PUBLISH
X-WR-CALNAME:Sigtunastiftelsen
X-ORIGINAL-URL:https://sigtunastiftelsen.se
X-WR-CALDESC:Events for Sigtunastiftelsen
BEGIN:VEVENT
DTSTART;TZID=UTC+1:20191115T180000
DTEND;TZID=UTC+1:20191117T150000
DTSTAMP:20260425T174316
CREATED:20190711T071951Z
LAST-MODIFIED:20191118T153625Z
UID:6859-1573840800-1574002800@sigtunastiftelsen.se
SUMMARY:Interkulturell mötesplats för unga
DESCRIPTION:I samverkan med Sensus erbjuder Sigtunastiftelsen unga vuxna mellan 18 och 30 år möjligheten att träffas under två helger på Sigtunastiftelsen. De som inbjuds att delta är medlemmar i religiöst förankrade organisationer i Sverige. Syftet med mötesplatsen är att deltagaren ska känna sig styrkt i sin identitet\, få ökad självkännedom och få verktyg för ett fortsatt hållbart engagemang samt lära känna unga från andra religiösa traditioner och därmed få tillgång till värdefulla relationer i nya nätverk. Deltagandet är gratis men man förbinder sig att delta under båda helgerna. Interkulturell mötesplats arrangeras 27 – 29 september och 15 – 17 november. \nFör mer information och anmälan vänligen kontakta Elisabeth Mattizon Armgard elisabet.mattizon-armgard@sigtunastiftelsen.se \n08 592 589 98 senast 12 september. \n
URL:https://sigtunastiftelsen.se/events/interkulturell-motesplats-for-unga-3/
LOCATION:Sigtunastiftelsen\, Manfred Björkquists allé 4\, Sigtuna\, Sigtuna\, 193 31
CATEGORIES:Seminarier & Kurser
ATTACH;FMTTYPE=image/jpeg:https://sigtunastiftelsen.se/wp-content/uploads/2019/07/filmbildx250.jpg
ORGANIZER;CN="Sigtunastiftelsen":MAILTO:info@sigtunastiftelsen.se
END:VEVENT
END:VCALENDAR