BEGIN:VCALENDAR
VERSION:2.0
PRODID:-//Sigtunastiftelsen - ECPv4.6.25//NONSGML v1.0//EN
CALSCALE:GREGORIAN
METHOD:PUBLISH
X-WR-CALNAME:Sigtunastiftelsen
X-ORIGINAL-URL:https://sigtunastiftelsen.se
X-WR-CALDESC:Events for Sigtunastiftelsen
BEGIN:VEVENT
DTSTART;TZID=UTC+1:20230311T130000
DTEND;TZID=UTC+1:20230414T170000
DTSTAMP:20260423T185708
CREATED:20230109T070005Z
LAST-MODIFIED:20230522T145600Z
UID:24453-1678539600-1681491600@sigtunastiftelsen.se
SUMMARY:Annika Eriksdotter
DESCRIPTION:”Clara\, du och jag träffades aldrig men du är ändå närvarande. Du plockade blommor och skapade ett rum för växterna\, ett herbarium. Dina växter är ett spår från sommaren i Geterud på Hammarö 1923. Nu ligger baldersbrå\, duvkulla\, blåklocka och näckros på mitt arbetsbord i ateljén. Våra vägar sammanstrålar för ett ögonblick\, botanik och fotografi möts och vi skapar nya verk tillsammans.” \nFör en tid sedan fick Annika Eriksdotter ett herbarium som en gång tillhört hennes väninnas faster Clara. Hundra år har nu gått sedan Clara som ung kvinna gick omkring på Hammarö och samlade in växter att pressa. I verken som visas på Sigtunastiftelsen möter Claras herbarium Annika Eriksdotters fotografier från de platser där Clara en gång rörde sig. Med projektet önskar konstnären väva samman dåtid och nutid\, samt lyfta det enkla i en människas liv. På samma gång formar utställningen en stilla reflektion över vår förändrade relation till naturen och hur vi samlar in kunskap. Medan det under 1900-talets första hälft var vanligt att göra herbarier\, är det i dagens digitaliserade värld en praktik som verkar ha fallit i glömska. Minnen suddas ut men lämnar spår.\nAnnika Eriksdotter är konstnär med inriktning på fotografi\, broderi och mixed media. Hon är även konst- och kyrkopedagog samt skolkonstnär på Kronoparksskolan i Karlstad. Annika Eriksdotter är representerad på ett 40-tal ställen\, bland annat i Täby kyrka\, Åmåls bibliotek\, Region Värmland och Upplandsmuseet. \nVernissage under Kulturhelgen lördag 11 mars 13.00 – 16.00 \n
URL:https://sigtunastiftelsen.se/events/annika-eriksdotter/
LOCATION:Sigtunastiftelsen\, Manfred Björkquists allé 4\, Sigtuna\, Sigtuna\, 193 31
CATEGORIES:Konst
ATTACH;FMTTYPE=image/jpeg:https://sigtunastiftelsen.se/wp-content/uploads/2023/01/Bild-Annika-Eriksdotter.jpegx250.jpeg
ORGANIZER;CN="Sigtunastiftelsen":MAILTO:info@sigtunastiftelsen.se
END:VEVENT
BEGIN:VEVENT
DTSTART;TZID=UTC+1:20230413T180000
DTEND;TZID=UTC+1:20230413T200000
DTSTAMP:20260423T185708
CREATED:20230109T070020Z
LAST-MODIFIED:20230414T073138Z
UID:24555-1681408800-1681416000@sigtunastiftelsen.se
SUMMARY:A tree has fallen
DESCRIPTION:Den världsberömda fredspristagaren\, ärkebiskop Desmond Tutu avled den 26 december 2021\, 90 år gammal. Marika Griehsels nya dokumentär A tree has fallen – remembering Archbishop Desmond Tutu är en film om hans livslånga kamp mot förtyck och rasism\, om tro\, rättfärdighet\, försoning\, vänskap och humor. I unika och personliga intervjuer möter vi några av hans närmaste\, hans dotter Mpho Tutu van Furth\, hans ” högra hand” John Allen och hans läkare\, svenska Ingrid le Roux och några till som minns Desmond Tutu och hans enorma insats för fred\, frihet\, demokrati och allas lika värde i Sydafrika och i världen. Dokumentären innehåller även utdrag ur Marika Griehsels intervjuer med Desmond Tutu.\nMarika Griehsel var SVT:s korrespondent i Afrika mellan 1990 – 2005. Hon och hennes partner\, filmfotograf och producent Simon Stanford\, har erhållit en rad utmärkelser för deras rapportering från den afrikanska kontinenten. Efter filmvisningen samtalar Jakob Trônet med filmens regissör och producent Marika Griehsel och Erik Berggren\, biskopsadjunkt i Uppsala stift som forskat kring frågor om kyrkans förhållande till etnicitet. \nEftersits och samtal på församlingshemmet Munken. \nI samverkan med biograf Gröna ladan och Sigtuna församling \n
URL:https://sigtunastiftelsen.se/events/a-tree-has-fallen/
LOCATION:Sigtunastiftelsen\, Manfred Björkquists allé 4\, Sigtuna\, Sigtuna\, 193 31
CATEGORIES:Film
ATTACH;FMTTYPE=image/jpeg:https://sigtunastiftelsen.se/wp-content/uploads/2023/01/DesmondTutu.jpgx250.jpg
ORGANIZER;CN="Sigtunastiftelsen":MAILTO:info@sigtunastiftelsen.se
END:VEVENT
END:VCALENDAR