BEGIN:VCALENDAR
VERSION:2.0
PRODID:-//Sigtunastiftelsen - ECPv4.6.25//NONSGML v1.0//EN
CALSCALE:GREGORIAN
METHOD:PUBLISH
X-WR-CALNAME:Sigtunastiftelsen
X-ORIGINAL-URL:https://sigtunastiftelsen.se
X-WR-CALDESC:Events for Sigtunastiftelsen
BEGIN:VEVENT
DTSTART;TZID=UTC+1:20230419T180000
DTEND;TZID=UTC+1:20230419T203000
DTSTAMP:20260419T125453
CREATED:20230109T070025Z
LAST-MODIFIED:20230421T085537Z
UID:24351-1681927200-1681936200@sigtunastiftelsen.se
SUMMARY:Mystik salong - Förvandling
DESCRIPTION:I den mystika salongen möts vi\, lyssnar på föredrag\, samtalar\, reflekterar och kontemplerar tillsammans i en vacker och lugn litterär miljö. I en tid av kriser\, polarisering och accelererade hastigheter\, behövs offentliga rum för dialog\, långsam reflektion och inre lyssnande. Föredraget hålls av några av de som erhållit Stiftelsen Mäster Eckhartsällskapets vistelsestipendium på Sigtunastiftelsen. Stipendiet är knutet till några av Sveriges intressantaste mystika samlingar på Sigtunastiftelsen liksom aktuell andlig och mystik litteratur. Vi möts kl 18.00 för att samtala\, botanisera i den mystika litteraturen och låta kontemplativ musik fylla rummet och själen. Föredraget startar kl 18.30 och sedan blir det paus och ett öppet samtal under ledning av Lisbeth Gustafsson\, journalist\, författare och ordförande i Mäster Eckhartsällskapet kring kvällens föredrag och tema. \nUnder våren bjuder vi in till Mystik salong tre onsdagar i Sigtunastiftelsens bibliotek med följande medverkande och teman. \nResonans – 15 februari 18.00\nResonanserfarenhet hos mystikern Hjalmar Ekström – en fördjupad förståelse av begreppet kallelse.\nElisabeth Fabricius\, läkare och Eckhartstiftelsens vistelsestipendiat 2021\, berättar om Hjalmar Ekströms liv och kristna inspirationskällor samt Hartmut Rosas resonansbegrepp. \nHågkomst och hemlängtan – 15 mars 18.00\nErik Johan Stagnelius som mystiker. Simon Sorgenfrei\, religionsvetare och Eckhartstiftelsens vistelsestipendiat\n2022\, ställer frågan: ”Vad gör det med vår läsning av Stagnelius om vi förstår honom som mystiker?” En afton om poesi som mystik diktning 200 år efter författarens död. \nFörvandling – 19 april 18.00\nAlkemi som mystik tradition – andlig och materiell transformation. Ingrid Malm Lindberg\, religionsfilosof och Eckhartstiftelsens vistelsestipendiat 2022 undersöker alkemins historia som gränsfenomen mellan\nesoterisk mystik\, förädling av naturliga ämnen\, samt försök att skapa artificiellt liv med hjälp av magiska medel (homunculus). \nI samverkan med Mäster Eckhartsällskapet \n
URL:https://sigtunastiftelsen.se/events/mystik-salong-forvandling/
LOCATION:Sigtunastiftelsens Bibliotek\, Manfred Björkquists allé 4\, Sigtuna\, 193 31
CATEGORIES:Kultur & Bildning
ATTACH;FMTTYPE=image/jpeg:https://sigtunastiftelsen.se/wp-content/uploads/2019/07/bibliotekx250.jpg
ORGANIZER;CN="Sigtunastiftelsen":MAILTO:info@sigtunastiftelsen.se
END:VEVENT
END:VCALENDAR