BEGIN:VCALENDAR
VERSION:2.0
PRODID:-//Sigtunastiftelsen - ECPv4.6.25//NONSGML v1.0//EN
CALSCALE:GREGORIAN
METHOD:PUBLISH
X-WR-CALNAME:Sigtunastiftelsen
X-ORIGINAL-URL:https://sigtunastiftelsen.se
X-WR-CALDESC:Events for Sigtunastiftelsen
BEGIN:VEVENT
DTSTART;TZID=UTC+1:20230422T130000
DTEND;TZID=UTC+1:20230602T170000
DTSTAMP:20260424T192305
CREATED:20230109T070005Z
LAST-MODIFIED:20230905T094302Z
UID:24570-1682168400-1685725200@sigtunastiftelsen.se
SUMMARY:Konstutställning Marcus Wallström
DESCRIPTION:Marcus Wallström erhåller årets Gustaf Dahl-stipendium som delas ut av Sigtuna folkhögskola och Sigtunastiftelsen till borgmästare Gustaf Dahls minne. Stipendiet tilldelas en ung framstående bildkonstnär som studerat vid Sigtuna folkhögskolas konstlinje.\nMotiveringen lyder: ”Marcus Wallströms konst ger oss möjlighet att vrida och vända på saker som yta och omfång. Med ett undersökande förhållningssätt lyssnar han till naturen\, stannar upp och gräver vidare med dess\, eller kanske sina egna\, rötter. Genom Marcus konstnärskap möter vi en hälsning från skogen\, ett susande brus från materialet som blir en påminnelse om att dröja kvar i stunden\, en vädjan att stanna upp och förundras över det som omger oss.”\nMarcus Wallström (f. 1987) bor och arbetar i Malmö. Han var tidigare elev på Sigtuna folkhögskolas konstutbildning och studerar nu Kandidatprogrammet i fri konst vid Malmö konsthögskola\, Lunds universitet. De senaste åren har han ställt ut på bland annat Konstfrämjandet Värmland\, Ystad konstmuseum\, Kolonin i Arvika samt på Naturskyddsföreningens rikskongress. \n
URL:https://sigtunastiftelsen.se/events/konstutstallning-marcus-wallstrom/
LOCATION:Sigtunastiftelsen\, Manfred Björkquists allé 4\, Sigtuna\, Sigtuna\, 193 31
CATEGORIES:Konst
ATTACH;FMTTYPE=image/jpeg:https://sigtunastiftelsen.se/wp-content/uploads/2023/01/Detail-1.jpgx250.jpg
ORGANIZER;CN="Sigtunastiftelsen":MAILTO:info@sigtunastiftelsen.se
END:VEVENT
BEGIN:VEVENT
DTSTART;TZID=UTC+1:20230512T093000
DTEND;TZID=UTC+1:20230513T151500
DTSTAMP:20260424T192306
CREATED:20230109T070037Z
LAST-MODIFIED:20230522T145652Z
UID:24678-1683883800-1683990900@sigtunastiftelsen.se
SUMMARY:Kurs Abrahams Barn: Berättelser och berättande
DESCRIPTION:Den narrativa pedagogiken står i centrum för Abrahams Barns metod och pedagogik. Kursen vill därför inspirera till muntligt berättande genom kunskap om berättarteknik. Vi tar upp FN:s konvention om barnets rättigheter genom att utgå från litteratur av olika slag och samtidigt träna språkutveckling. Vi fördjupar oss i empati som teori och praktik samt får prova på en skrivarverkstad utifrån Abrahams Barns metod Identifikation skapar Empati. Abrahams Barns empatiprogram Vänner presenteras.\n\nMedverkande: Jakob Håkansson\, docent i psykologi vid Stockholms universitet som forskar om empati.\nMats Rehnman\, professionell berättare\, författare och konstnär\, verksam i berättarkompaniet Fabula Storytelling.\nUlla Nestor\, lärare som arbetat enligt Abrahams Barns pedagogik. \nMålgrupp: Bibliotekarier\, pedagoger från olika yrkesområden och lärare från förskola\, grundskola och särskola. \nDet finns möjlighet att delta endast en dag:\nFredag\, en heldag med muntligt berättande\, eller lördag med fokus på Abrahams Barns metod och program \nAnmälan senast den 20 april \nProgram 12 – 13 maj 2023 \nKursbeskrivning 12 – 13 maj 2023 \n
URL:https://sigtunastiftelsen.se/events/kurs-abrahams-barn-berattelser-och-berattande/
LOCATION:Sigtunastiftelsen\, Manfred Björkquists allé 4\, Sigtuna\, Sigtuna\, 193 31
ATTACH;FMTTYPE=image/jpeg:https://sigtunastiftelsen.se/wp-content/uploads/2019/05/mötet250x165.jpg
ORGANIZER;CN="Sigtunastiftelsen":MAILTO:info@sigtunastiftelsen.se
END:VEVENT
BEGIN:VEVENT
DTSTART;TZID=UTC+1:20230512T170000
DTEND;TZID=UTC+1:20230514T153000
DTSTAMP:20260424T192306
CREATED:20230109T070033Z
LAST-MODIFIED:20230522T145806Z
UID:24691-1683910800-1684078200@sigtunastiftelsen.se
SUMMARY:Att skriva sin själ
DESCRIPTION:Att hitta ett språk för det innersta är nödvändigt och lockande för många\, men processen väcker ofta frågor: Hur ska jag våga öppna mitt innersta för läsare jag inte känner? Vem ska läsa det jag skriver och varför? Hur gör jag rent tekniskt för att nå fram till det jag vill uttrycka? Under ett par dagar i retreatmiljö får du handledning i skrivandet av Maria Küchen\, författare och skribent och Kerstin Dillmar\, kaplan på Sigtunastiftelsen och författare. \n
URL:https://sigtunastiftelsen.se/events/att-skriva-sin-sjal-4/
LOCATION:Sigtunastiftelsen\, Manfred Björkquists allé 4\, Sigtuna\, Sigtuna\, 193 31
CATEGORIES:Seminarier & Kurser
ATTACH;FMTTYPE=image/jpeg:https://sigtunastiftelsen.se/wp-content/uploads/2019/01/Hartman-magnolia250x165.jpg
ORGANIZER;CN="Sigtunastiftelsen":MAILTO:info@sigtunastiftelsen.se
END:VEVENT
BEGIN:VEVENT
DTSTART;TZID=UTC+1:20230513T140000
DTEND;TZID=UTC+1:20230514T110000
DTSTAMP:20260424T192306
CREATED:20220812T115906Z
LAST-MODIFIED:20230515T084321Z
UID:22565-1683986400-1684062000@sigtunastiftelsen.se
SUMMARY:Yogaweekend
DESCRIPTION:\nUnna dig en paus i vardagen och hitta lugnet på en av Sveriges vackraste platser. Spendera en helg på Sigtunastiftelsen beläget i historiska Sigtuna. Barbora Furskog\, legitimerad och erfaren yogalärare\, guidar dig i balansen mellan dynamisk och lugnande yoga\, meditation och andningsövningar. Sigtunastiftelsens kök har specialkomponerat rätter gjorda av ekologiska och närproducerade råvaror för att ytterligare främja helhetsupplevelsen. Individuella kostbehov finns tillgängliga på begäran\, vänligen informera oss i förväg. Under vistelsen får du möjlighet att njuta av Sigtunastiftelsens labyrintiska byggnad. Du kan även passa på att koppla av i hotellets bastu eller promenera i den vackra omgivningen. Alla är välkomna\, nybörjare såväl som avancerade yogautövare. Grundläggande fysisk kondition är dock nödvändig för yoga-klasserna. \nGruppen kommer vara liten\, max 14 deltagare + instruktör\, perfekt för att kunna fördjupa sig i sin träning. \nAlla lektioner hålls på engelska. \nI paketet ingår:\n* 1 st eftermiddagskaffe\n* 1 st 2-rätters middag\n* tillgång till vår bastu\n* 1 st natt i våra personligt inredda rum \n* 1 st lyxig frukostbuffé\n* 2 Yogaklasser\n* 1 Meditation \n\n
URL:https://sigtunastiftelsen.se/events/yogaweekend-6/
LOCATION:Sigtunastiftelsen\, Manfred Björkquists allé 4\, Sigtuna\, Sigtuna\, 193 31
CATEGORIES:Hotell
ATTACH;FMTTYPE=image/jpeg:https://sigtunastiftelsen.se/wp-content/uploads/2020/05/sommaryoga250x165.jpg
ORGANIZER;CN="Sigtunastiftelsen":MAILTO:info@sigtunastiftelsen.se
END:VEVENT
END:VCALENDAR