BEGIN:VCALENDAR
VERSION:2.0
PRODID:-//Sigtunastiftelsen - ECPv4.6.25//NONSGML v1.0//EN
CALSCALE:GREGORIAN
METHOD:PUBLISH
X-WR-CALNAME:Sigtunastiftelsen
X-ORIGINAL-URL:https://sigtunastiftelsen.se
X-WR-CALDESC:Events for Sigtunastiftelsen
BEGIN:VEVENT
DTSTART;TZID=UTC+1:20220326T140000
DTEND;TZID=UTC+1:20220326T160000
DTSTAMP:20260423T084326
CREATED:20220110T080035Z
LAST-MODIFIED:20220328T081744Z
UID:19460-1648303200-1648310400@sigtunastiftelsen.se
SUMMARY:Abrahams Barns Dag
DESCRIPTION:Abrahams Barns Dag på Sigtunastiftelsen tar vid efter The Global Village Lecture som under många år hölls på Riddarhuset. \nAbrahams Barn vill synliggöra och lyfta vårt samhälles betydelsebärande berättelser som man finner i historia och skönlitteratur\, men också i religionens värld. \nKvinnor från det första testamentet\nFöreläsning av Charlotte Frycklund\, nätpräst i Svenska kyrkan och författare till ”Bibelns kvinnor. 101 möten med kända och okända systrar”. \nAbrahams Barns Pris 2022\ntilldelas Mona Henning\, förläggare Dar Al-Muna\nMona Henning har varit banbrytande genom att ge ut svensk barn- och vuxenlitteratur på arabiska alltsedan 1984. \nAbrahams Barns Pris delas ut till personer eller organisationer som är förebilder när det gäller att aktivt verka för ett öppet och mångkulturellt samhälle. \nFri entré! \nAnmälan senast 17 mars till elisabet.mattizon-armgard@sigtunastiftelsen.se \n08 592 589 98 \nInbjudan Abrahams Barns Dag 26 mars 2022 \n
URL:https://sigtunastiftelsen.se/events/abrahams-barns-dag/
LOCATION:Sigtunastiftelsen\, Manfred Björkquists allé 4\, Sigtuna\, Sigtuna\, 193 31
CATEGORIES:Seminarier & Kurser
ATTACH;FMTTYPE=image/jpeg:https://sigtunastiftelsen.se/wp-content/uploads/2019/03/Abrahamsbarn_250x165.jpg
ORGANIZER;CN="Sigtunastiftelsen":MAILTO:info@sigtunastiftelsen.se
END:VEVENT
END:VCALENDAR