BEGIN:VCALENDAR
VERSION:2.0
PRODID:-//Sigtunastiftelsen - ECPv4.6.25//NONSGML v1.0//EN
CALSCALE:GREGORIAN
METHOD:PUBLISH
X-WR-CALNAME:Sigtunastiftelsen
X-ORIGINAL-URL:https://sigtunastiftelsen.se
X-WR-CALDESC:Events for Sigtunastiftelsen
BEGIN:VEVENT
DTSTART;TZID=UTC+1:20190315T113000
DTEND;TZID=UTC+1:20190316T160000
DTSTAMP:20260423T090547
CREATED:20190108T144926Z
LAST-MODIFIED:20190321T121928Z
UID:3972-1552649400-1552752000@sigtunastiftelsen.se
SUMMARY:Abrahams Barns skrivarkurs med Ulf Nilsson
DESCRIPTION:Tillsammans med Ulf Nilsson utvecklar vi skrivandet genom en fördjupning och fokusering på det skriftliga berättandet med hjälp av Abrahams Barns narrativa metod Identifikation skapar Empati. Vi utgår från allmänmänskliga berättelser med existentiellt innehåll hämtade från det gemensamma legendmaterialet med rötter i judendom\, kristendom och islam. Kursen önskar ge inspiration och verktyg för fortsatt språkutveckling i det mångkulturella klassrummet. \nUlf Nilsson har varit barnboksförfattare i hela sitt liv och har skrivit ungefär 120 böcker. Mest kända är kanske Min lilla Syster Kanin och Adjö herr Muffin. Men han har också skrivit kring existentiella frågor och tro\, bland annat i Mästaren och de fyra skrivarna som fick Augustpriset 1994. \nKursen riktar sig i första hand till lärare och pedagoger som önskar fördjupa det kreativa skrivandet i sin pedagogiska verksamhet. \nProgram \nFör mer information vänligen kontakta Elisabet Mattizon Armgard\,  Elisabet.Mattizon-Armgard@sigtunastiftelsen.se  \nSista anmälningsdag 28 februari \n
URL:https://sigtunastiftelsen.se/events/abrahams-barns-skrivarkurs-med-ulf-nilsson/
LOCATION:Sigtunastiftelsen\, Manfred Björkquists allé 4\, Sigtuna\, Sigtuna\, 193 31
CATEGORIES:Seminarier & Kurser
ATTACH;FMTTYPE=image/jpeg:https://sigtunastiftelsen.se/wp-content/uploads/2019/01/Ulfnilsson250x165.jpg
ORGANIZER;CN="Sigtunastiftelsen":MAILTO:info@sigtunastiftelsen.se
END:VEVENT
END:VCALENDAR