BEGIN:VCALENDAR
VERSION:2.0
PRODID:-//Sigtunastiftelsen - ECPv4.6.25//NONSGML v1.0//EN
CALSCALE:GREGORIAN
METHOD:PUBLISH
X-WR-CALNAME:Sigtunastiftelsen
X-ORIGINAL-URL:https://sigtunastiftelsen.se
X-WR-CALDESC:Events for Sigtunastiftelsen
BEGIN:VEVENT
DTSTART;TZID=UTC+1:20181202T120000
DTEND;TZID=UTC+1:20181202T170000
DTSTAMP:20260423T090600
CREATED:20180726T174308Z
LAST-MODIFIED:20181203T111304Z
UID:940-1543752000-1543770000@sigtunastiftelsen.se
SUMMARY:Öppet hus\, adventskonsert och julbord
DESCRIPTION:Välkomna till en traditionsenlig adventskonsert med Sigtuna sångensemble under ledning av Greger Fellin. Kören har sedan starten 2001 lagt stor vikt vid samarbeten med framstående musiker och artister inom olika genrer och har utvecklat en stor bredd från traditionell klassisk och samtida kammarmusik till symfoniska verk och jazz. \nAdventsfirandet inleds redan klockan 12 med Sigtunastiftelsens lilla julbord\, visningar adventskaffe och julpyssel för de minsta. Konserten avslutar dagen klockan 16.00 i Stora salen.\nVi ber dig vänligen att boka både lunch och konsert i förväg då detta evenemang är mycket välbesökt. \nBoka konsertbiljetter\nBoka Sigtunastiftelsens lilla julbord \n
URL:https://sigtunastiftelsen.se/events/adventskonsert-sigtuna-sangensemble/
LOCATION:Sigtunastiftelsen\, Manfred Björkquists allé 4\, Sigtuna\, Sigtuna\, 193 31
CATEGORIES:Mat & Dryck,Musik
ATTACH;FMTTYPE=image/jpeg:https://sigtunastiftelsen.se/wp-content/uploads/2018/09/Vintersigtunastiftelsen_250x165-e1539874001191.jpg
ORGANIZER;CN="Sigtunastiftelsen":MAILTO:info@sigtunastiftelsen.se
END:VEVENT
END:VCALENDAR