BEGIN:VCALENDAR
VERSION:2.0
PRODID:-//Sigtunastiftelsen - ECPv4.6.25//NONSGML v1.0//EN
CALSCALE:GREGORIAN
METHOD:PUBLISH
X-WR-CALNAME:Sigtunastiftelsen
X-ORIGINAL-URL:https://sigtunastiftelsen.se
X-WR-CALDESC:Events for Sigtunastiftelsen
BEGIN:VEVENT
DTSTART;TZID=UTC+1:20200531T140000
DTEND;TZID=UTC+1:20200531T160000
DTSTAMP:20260422T104607
CREATED:20200428T122531Z
LAST-MODIFIED:20200601T074902Z
UID:10640-1590933600-1590940800@sigtunastiftelsen.se
SUMMARY:Afternoon tea på Mors dag
DESCRIPTION:Fira Mors dag i Sigtunastiftelsens vackra Rosengård. Vi serverar ett klassiskt afternoon tea med läckra sandwiches\, varma scones och söta bakverk. Varför inte pröva Sigtunastiftelsens egna rosente? \nOrdinare pris i restaurangen: 295 kr\nPris vid förbokning på hemsidan: 275 kr\nAfternoon tea som take away: 250 kr\n(Avhämtning 12.00 – 13.00. Beställning på info@sigtunastiftelsen.se eller 08 592 589 00) \n
URL:https://sigtunastiftelsen.se/events/afternoon-tea-pa-mors-dag-2/
LOCATION:Sigtunastiftelsen\, Manfred Björkquists allé 4\, Sigtuna\, Sigtuna\, 193 31
CATEGORIES:Mat & Dryck
ATTACH;FMTTYPE=image/jpeg:https://sigtunastiftelsen.se/wp-content/uploads/2020/04/morsdag250x165.jpg
ORGANIZER;CN="Sigtunastiftelsen":MAILTO:info@sigtunastiftelsen.se
END:VEVENT
END:VCALENDAR