BEGIN:VCALENDAR
VERSION:2.0
PRODID:-//Sigtunastiftelsen - ECPv4.6.25//NONSGML v1.0//EN
CALSCALE:GREGORIAN
METHOD:PUBLISH
X-WR-CALNAME:Sigtunastiftelsen
X-ORIGINAL-URL:https://sigtunastiftelsen.se
X-WR-CALDESC:Events for Sigtunastiftelsen
BEGIN:VEVENT
DTSTART;VALUE=DATE:20251017
DTEND;VALUE=DATE:20251019
DTSTAMP:20260422T205947
CREATED:20250623T093816Z
LAST-MODIFIED:20251212T131645Z
UID:40072-1760659200-1760831999@sigtunastiftelsen.se
SUMMARY:Att undervisa om Abrahams Barn
DESCRIPTION:Kursen inspirerar till metodutveckling för skolans undervisning i det mångkulturella samhället. Vi presenterar Abrahams Barns pedagogik som tar sin utgångspunkt i våra gemensamma rötter. Vi fokuserar på undervisning om de mänskliga rättigheterna\, en skrivarverkstad utifrån Abrahams Barns metod Identifikation skapar Empati och hur man kan använda Abrahams Barns artefaktotek med religiösa föremål i klassrummet. Dessutom tar vi upp hur användandet av berättelser kan vara ett stöd för samtal om livsfrågor. Kursen behandlar också ämnes- och kursplanerna för religionskunskapen\, deras centrala innehåll och kunskapskrav. \nMedverkande:\nOla Björlin\, läromedelsförfattare och lärarutbildare som undervisat i religionskunskap och filosofi på gymnasiet i Västerås.\nMalin Löfstedt\, gymnasielärare\, lektor i religionsvetenskap med didaktisk inriktning vid Teologiska institutionen vid Uppsala universitet.\nMalin Mattsson Flennegård\, pedagog inom Toleransprojektet\, läromedelsförfattare och gymnasielärare i religionskunskap och svenska i Nyköping.\nIngela Visuri\, lektor i religionsvetenskap vid Högskolan Dalarna. \nMålgrupp: Pedagoger från grundskola och gymnasium\, bibliotek och trossamfund\, men är öppen för alla med intresse för hur vi kan skapa social hållbarhet i ett samhälle med ökad religiös och kulturell mångfald. \nDet finns möjlighet för kvinnliga lärare att söka stipendium för hela avgiften! \nFör mer information kontakta Elisabet Mattizon Armgard.\nAnmälan senast 25 september till elisabet.mattizon-armgard@sigtunastiftelsen.se; 08-592 589 98 \nAtt undervisa om Abrahams Barn 17 – 18 oktober 2025 \nProgram 17 – 18 oktober 2025 \n
URL:https://sigtunastiftelsen.se/events/att-undervisa-om-abrahams-barn-6/
LOCATION:Sigtunastiftelsen\, Manfred Björkquists allé 4\, Sigtuna\, Sigtuna\, 193 31
CATEGORIES:Seminarier & Kurser
ATTACH;FMTTYPE=image/jpeg:https://sigtunastiftelsen.se/wp-content/uploads/2019/03/Abrahamsbarn_250x165.jpg
ORGANIZER;CN="Sigtunastiftelsen":MAILTO:info@sigtunastiftelsen.se
END:VEVENT
END:VCALENDAR