BEGIN:VCALENDAR
VERSION:2.0
PRODID:-//Sigtunastiftelsen - ECPv4.6.25//NONSGML v1.0//EN
CALSCALE:GREGORIAN
METHOD:PUBLISH
X-WR-CALNAME:Sigtunastiftelsen
X-ORIGINAL-URL:https://sigtunastiftelsen.se
X-WR-CALDESC:Events for Sigtunastiftelsen
BEGIN:VEVENT
DTSTART;TZID=UTC+1:20211024T150000
DTEND;TZID=UTC+1:20211024T160000
DTSTAMP:20260422T104141
CREATED:20210816T070011Z
LAST-MODIFIED:20211025T070153Z
UID:12225-1635087600-1635091200@sigtunastiftelsen.se
SUMMARY:Björn Wiman & Mikael Kurkiala
DESCRIPTION:Liminalitet är ett socialt och psykologiskt undantagstillstånd\, oftast förknippat med livskriser och initiationsriter\, som präglas av osäkerhet\, ångest\, nyskapande och nytänkande. Liminalitet är ett mellanrum där livet står och väger mellan hotet om utplåning och löftet om något nytt.\nDe kriser vi nu lever i och under – inte minst klimatkrisen och den pandemi som tvingat världen att bromsa in – ställer oss inför en rad nya frågor. Befinner vi oss på en tröskel som leder in i ett nytt rum? Och är det i så fall ett hotfullt rum eller ett som vi kan inreda till ett hem? Eller är kriserna blott temporära\, om än olyckliga\, avbrott på den tillväxtens väg som vi slagit in på sedan sekler tillbaka och får allt svårare att föreställa oss ett alternativ till?\nVill vi tillbaka till ”det normala” eller väcker de globala kriserna en djupare längtan hos oss efter ett mer autentiskt liv? Vad\, om något\, innebär den fördjupade insikten om livets och ekosystemens bräcklighet? Vilken människosyn växer fram i pandemins skugga? Och går den globala uppvärmningen hand i hand med en tilltagande nedkylning av våra själar?\nMikael Kurkiala\, docent i kulturantropologi\, föreläsare och författare samtalar med Björn Wiman\, kulturchef på Dagens Nyheter. \n\n		\n			#gallery-1 {\n				margin: auto;\n			}\n			#gallery-1 .gallery-item {\n				float: left;\n				margin-top: 10px;\n				text-align: center;\n				width: 33%;\n			}\n			#gallery-1 img {\n				border: 2px solid #cfcfcf;\n			}\n			#gallery-1 .gallery-caption {\n				margin-left: 0;\n			}\n			/* see gallery_shortcode() in wp-includes/media.php */\n		\n		\n			\n				\n			\n			\n				\n			\n			\n		\n\n
URL:https://sigtunastiftelsen.se/events/bjorn-wiman-mikael-kurkiala/
LOCATION:Sigtunastiftelsen\, Manfred Björkquists Allé 4\, Sigtuna\, 19331\, Sverige
CATEGORIES:Seminarier & Kurser
ATTACH;FMTTYPE=image/jpeg:https://sigtunastiftelsen.se/wp-content/uploads/2020/08/Bjrön-Wimanx250.jpg
ORGANIZER;CN="Sigtunastiftelsen":MAILTO:info@sigtunastiftelsen.se
END:VEVENT
END:VCALENDAR