BEGIN:VCALENDAR
VERSION:2.0
PRODID:-//Sigtunastiftelsen - ECPv4.6.25//NONSGML v1.0//EN
CALSCALE:GREGORIAN
METHOD:PUBLISH
X-WR-CALNAME:Sigtunastiftelsen
X-ORIGINAL-URL:https://sigtunastiftelsen.se
X-WR-CALDESC:Events for Sigtunastiftelsen
BEGIN:VEVENT
DTSTART;TZID=UTC+1:20260408T190000
DTEND;TZID=UTC+1:20260408T203000
DTSTAMP:20260420T122457
CREATED:20251217T130612Z
LAST-MODIFIED:20260409T070150Z
UID:46803-1775674800-1775680200@sigtunastiftelsen.se
SUMMARY:Bokbar: Poeten Jenny Wrangborg & musikern Tony Naima
DESCRIPTION:Jenny Wrangborg är prisad poet och krönikör. Hennes nya diktsamling Det oss som saknar ett vi belyser klasskillnaderna i våra kärleksrelationer och är en befriande uppgörelse med svunnen kärlek. När pojkvännen påminner diktjaget om att bära ut soporna under en födelsedagsmiddag börjar ojämlikheten bli synlig. Hon debuterade 2010 med diktsamlingen Kallskänken som fick ett stort genomslag\, både hos publik och kritiker. Få samtida diktsamlingar har fått ett sådant ”brukarvärde” som Kallskänken och dikterna har blivit tonsatta av både blåsorkestrar\, punkband och körer. 2014 kom diktsamlingen Vad ska vi göra med varandra och hösten 2025 kom hennes första diktsamling på 10 år\, Det oss som saknar ett vi. \nUnder kvällen blir det uppläsning\, författarsamtal samt livemusik av musikern och låtskrivaren Tony Naima som spelar sina tolkningar av dikter från boken. Tony Naima är från Härnösand och hans musik är rotad i americana och folk. Sedan debuten 2004 med Imprints har han spelat i olika konstellationer\, bland annat i det legendariska bandet Bruse och i Ådalsbandet. \nBoka gärna en tidig middag i vår restaurang! www.sigtunastiftelsen.se ”BOKA BORD” \n
URL:https://sigtunastiftelsen.se/events/bokbar-poeten-jenny-wrangborg-musikern-tony-naima/
LOCATION:Sigtunastiftelsen\, Manfred Björkquists allé 4\, Sigtuna\, Sigtuna\, 193 31
CATEGORIES:Kultur & Bildning
ATTACH;FMTTYPE=image/jpeg:https://sigtunastiftelsen.se/wp-content/uploads/2025/12/Wrangborg-250.jpg
ORGANIZER;CN="Sigtunastiftelsen":MAILTO:info@sigtunastiftelsen.se
END:VEVENT
END:VCALENDAR