BEGIN:VCALENDAR
VERSION:2.0
PRODID:-//Sigtunastiftelsen - ECPv4.6.25//NONSGML v1.0//EN
CALSCALE:GREGORIAN
METHOD:PUBLISH
X-WR-CALNAME:Sigtunastiftelsen
X-ORIGINAL-URL:https://sigtunastiftelsen.se
X-WR-CALDESC:Events for Sigtunastiftelsen
BEGIN:VEVENT
DTSTART;TZID=UTC+1:20191123T193000
DTEND;TZID=UTC+1:20191123T193000
DTSTAMP:20260426T025540
CREATED:20190704T120304Z
LAST-MODIFIED:20191125T071842Z
UID:6527-1574537400-1574537400@sigtunastiftelsen.se
SUMMARY:Compunctio
DESCRIPTION:Compunctio är ett skivbolag och ett samarbete mellan musikern och producenten Andreas Runeson och formgivaren Tomas Einarsson. Musikaliskt rör bolaget sig fritt mellan genrer som konstmusik\, jazz och pop. Hög konstnärlig integritet och kvalitet kännetecknar Compunctions produktioner och deras handgjorda utgåvor har kritikerrosats och legat på ”årets bästa” listor i tidningar som The Wire\, All about jazz och Dagens Nyheter. Välkommen till en konsert där får vi lyssna till flera konstellationer och artister från bolaget. Vi kommer att få höra musik av Sven-Erik Bäck\, nya tolkningar av Bach\, improviserat solopiano och mycket mer! Medverkande musiker: Andreas W Andersson\, saxofon\, Ellen Vingren\, sång\, Andreas Runeson\, gitarr\, Leif Johansson\, orgel och Andreaz Hedén\, piano. \nErbjudande\nKonsert 100 kr\nKonsert och middag 550 kr \n
URL:https://sigtunastiftelsen.se/events/compunctio/
LOCATION:Sigtunastiftelsen\, Manfred Björkquists allé 4\, Sigtuna\, Sigtuna\, 193 31
CATEGORIES:Musik
ATTACH;FMTTYPE=image/jpeg:https://sigtunastiftelsen.se/wp-content/uploads/2019/07/Compunctiox250.jpg
ORGANIZER;CN="Sigtunastiftelsen":MAILTO:info@sigtunastiftelsen.se
END:VEVENT
END:VCALENDAR