BEGIN:VCALENDAR
VERSION:2.0
PRODID:-//Sigtunastiftelsen - ECPv4.6.25//NONSGML v1.0//EN
CALSCALE:GREGORIAN
METHOD:PUBLISH
X-WR-CALNAME:Sigtunastiftelsen
X-ORIGINAL-URL:https://sigtunastiftelsen.se
X-WR-CALDESC:Events for Sigtunastiftelsen
BEGIN:VEVENT
DTSTART;TZID=UTC+1:20220319T130000
DTEND;TZID=UTC+1:20220418T170000
DTSTAMP:20260423T070046
CREATED:20220110T080017Z
LAST-MODIFIED:20220509T075958Z
UID:19278-1647694800-1650301200@sigtunastiftelsen.se
SUMMARY:Emma Virke - Toner av längtan
DESCRIPTION:Emma Virke blandar gärna tekniker och varvar måleri och teckning med collage. Pappersklipp och målade ytor bildar former och miljöer där djur och människor kan röra sig fritt\, men inte utan viss eftertanke. Kanske längtar de bort\, utan att veta vart. Men det finns ett hopp\, en kraft att ta sig vidare.\nEmma Virke\, f 1974 är bilderbokskonstnär och barnboksförfattare med en rad utmärkelser bakom sig. Parallellt med bokskapandet målar hon fristående bilder till utställningar eller vägghängd konst till vård och skola. Hon har nyligen genomfört gestaltningsuppdrag till bland annat Uppsala Kommuns nya biblioteksbuss\, samt takplattor till uppvakningsrum för Region Dalarna. \nVernissage under kulturhelgen lördag 19 mars 13.00 – 17.00 \n  \n
URL:https://sigtunastiftelsen.se/events/emma-virke-toner-av-langtan/
LOCATION:Sigtunastiftelsen\, Manfred Björkquists allé 4\, Sigtuna\, Sigtuna\, 193 31
CATEGORIES:Konst
ATTACH;FMTTYPE=image/jpeg:https://sigtunastiftelsen.se/wp-content/uploads/2021/12/emma_virke_galoppen_highx770.jpg
ORGANIZER;CN="Sigtunastiftelsen":MAILTO:info@sigtunastiftelsen.se
END:VEVENT
END:VCALENDAR