BEGIN:VCALENDAR
VERSION:2.0
PRODID:-//Sigtunastiftelsen - ECPv4.6.25//NONSGML v1.0//EN
CALSCALE:GREGORIAN
METHOD:PUBLISH
X-WR-CALNAME:Sigtunastiftelsen
X-ORIGINAL-URL:https://sigtunastiftelsen.se
X-WR-CALDESC:Events for Sigtunastiftelsen
BEGIN:VEVENT
DTSTART;TZID=UTC+1:20231018T180000
DTEND;TZID=UTC+1:20231018T203000
DTSTAMP:20260425T142146
CREATED:20230707T145143Z
LAST-MODIFIED:20231019T073819Z
UID:27079-1697652000-1697661000@sigtunastiftelsen.se
SUMMARY:Eric Schüldt - Musiken och det heliga
DESCRIPTION:I Mystik salong möts vi\, lyssnar på föredrag och samtalar\, reflekterar och kontemplerar tillsammans i en vacker och lugn litterär miljö. I tider av kris\, polarisering och accelererade hastigheter\, behövs offentliga rum för dialog\, långsam reflektion och inre lyssnande. Vi möts klockan 18.00 i meditativ stillhet\, recitation av texter och ett fördjupande föredrag. Denna kväll föreläser kulturjournalisten och programledaren Eric Schüldt om musik som gestaltning av tillvarons andliga dimension. Efter paus följer ett öppet samtal under ledning av Lisbeth Gustafsson\, journalist\, författare och ordförande i Mäster Eckhartsällskapet. \nUnder hösten bjuder vi in till Mystik salong två onsdagar i Sigtunastiftelsens bibliotek med följande medverkande och teman: \n18 oktober Eric Schüldt – Musiken och det heliga\n15 november Ärkebiskop emeritus K G Hammar – Gud bortom Gud – befrielsens punkt \nMystik salong anordnas i samverkan med Mäster Eckhartsällskapet.  \n  \n
URL:https://sigtunastiftelsen.se/events/eric-sculdt-musiken-och-det-heliga/
LOCATION:Sigtunastiftelsen\, Manfred Björkquists allé 4\, Sigtuna\, Sigtuna\, 193 31
CATEGORIES:Kultur & Bildning
ATTACH;FMTTYPE=image/jpeg:https://sigtunastiftelsen.se/wp-content/uploads/2023/07/ErikS.jpgx250.jpg
ORGANIZER;CN="Sigtunastiftelsen%20Evenemang":MAILTO:program@sigtunastiftelsen.se
END:VEVENT
END:VCALENDAR