BEGIN:VCALENDAR
VERSION:2.0
PRODID:-//Sigtunastiftelsen - ECPv4.6.25//NONSGML v1.0//EN
CALSCALE:GREGORIAN
METHOD:PUBLISH
X-WR-CALNAME:Sigtunastiftelsen
X-ORIGINAL-URL:https://sigtunastiftelsen.se
X-WR-CALDESC:Events for Sigtunastiftelsen
BEGIN:VEVENT
DTSTART;TZID=UTC+1:20190217T180000
DTEND;TZID=UTC+1:20190217T190000
DTSTAMP:20260423T090331
CREATED:20190108T124710Z
LAST-MODIFIED:20190220T121212Z
UID:3945-1550426400-1550430000@sigtunastiftelsen.se
SUMMARY:Existentiell oro och psykisk ohälsa
DESCRIPTION:Varmt välkommen till en öppen samtalskväll med Sigtunastiftelsens kaplan Lars Björklund. Temat denna gång är livets oro. Lars Björklund inleder samtalet och vi bjuder på enklare förtäring. \nLokal: Sällskapsvåningen. \n
URL:https://sigtunastiftelsen.se/events/existentiell-oro-och-psykisk-ohalsa/
LOCATION:Sigtunastiftelsen\, Manfred Björkquists allé 4\, Sigtuna\, Sigtuna\, 193 31
ATTACH;FMTTYPE=image/jpeg:https://sigtunastiftelsen.se/wp-content/uploads/2019/01/LarsB250x165.jpg
ORGANIZER;CN="Sigtunastiftelsen":MAILTO:info@sigtunastiftelsen.se
END:VEVENT
END:VCALENDAR