BEGIN:VCALENDAR
VERSION:2.0
PRODID:-//Sigtunastiftelsen - ECPv4.6.25//NONSGML v1.0//EN
CALSCALE:GREGORIAN
METHOD:PUBLISH
X-WR-CALNAME:Sigtunastiftelsen
X-ORIGINAL-URL:https://sigtunastiftelsen.se
X-WR-CALDESC:Events for Sigtunastiftelsen
BEGIN:VEVENT
DTSTART;TZID=UTC+1:20260323T180000
DTEND;TZID=UTC+1:20260323T194500
DTSTAMP:20260422T210301
CREATED:20251217T122428Z
LAST-MODIFIED:20260324T082845Z
UID:46789-1774288800-1774295100@sigtunastiftelsen.se
SUMMARY:Existentiellt litteratursamtal
DESCRIPTION:Biblioteket bjuder in till existentiell\, kontemplativ läsning och samtal i liten grupp – en form av mikrobokcirkel. Formen för träffarna är fritt inspirerad av så kallad shared reading\, en metod för högläsning och gemensam reflektion. Var och en får tid och plats att reflektera och ställa frågor utifrån sina känslor\, tankar och associationer. Alla är välkomna och texterna delas ut på plats. Inga förberedelser krävs och varje tillfälle är fristående. \nUnder våren rör vi oss i gränslandet mellan existens\, litteratur och andlighet\, mot bakgrund av samtidens växande kriser\, både med teman och författare relaterade till Sigtunastiftelsen. Vad innebär det att vara människa idag och vilken är vår roll? I en värld där allt tycks gå fortare och fortare saktar vi ned och söker djupare svar inom oss själva\, med utgångspunkt i litteraturen. Under meditativa former läser vi utdrag ur texter på aktuella teman inom området. Poesi och skönlitteratur vävs samman med andlig litteratur\, i ett försök att närma sig vår tids existentiella utmaningar från ett helhetsperspektiv. \nFörboka gärna vår poplulära kulturmacka före litteratursamtalet.\nRestaurangen öppnar 17.00\, wwww.sigtunastiftelsen.se ”BOKA BORD” Välkomna! \n
URL:https://sigtunastiftelsen.se/events/existentiellt-litteratursamtal-7/
LOCATION:Sigtunastiftelsen\, Manfred Björkquists allé 4\, Sigtuna\, Sigtuna\, 193 31
CATEGORIES:Kultur & Bildning
ATTACH;FMTTYPE=image/jpeg:https://sigtunastiftelsen.se/wp-content/uploads/2018/09/Biblioteket3_250x165.jpg
ORGANIZER;CN="Sigtunastiftelsen":MAILTO:info@sigtunastiftelsen.se
END:VEVENT
END:VCALENDAR