BEGIN:VCALENDAR
VERSION:2.0
PRODID:-//Sigtunastiftelsen - ECPv4.6.25//NONSGML v1.0//EN
CALSCALE:GREGORIAN
METHOD:PUBLISH
X-WR-CALNAME:Sigtunastiftelsen
X-ORIGINAL-URL:https://sigtunastiftelsen.se
X-WR-CALDESC:Events for Sigtunastiftelsen
BEGIN:VEVENT
DTSTART;TZID=UTC+1:20221202T150000
DTEND;TZID=UTC+1:20221202T160000
DTSTAMP:20260423T031047
CREATED:20220808T070039Z
LAST-MODIFIED:20230120T085504Z
UID:21833-1669993200-1669996800@sigtunastiftelsen.se
SUMMARY:Existentiellt litteratursamtal - Shared reading
DESCRIPTION:Vi bjuder in till s.k. shared reading med texter av årets författarstipendiater som utgångspunkt – en mikroläsecirkel med existentiell\, kontemplativ läsning. Vi läser korta litteraturutdrag högt tillsammans och samtalar kring de tankar och upplevelser som de väcker. Cirkeln är öppen för alla och deltagarna får texterna på plats. Den korta texten gör att man kommer den nära och tillsammans kan undersöka ordval och innebörder. Man kan läsa om och göra uppehåll på textställen för att de är speciellt ägnade att inspirera samtalet. Även andra korta\, korsbefruktande\, texter kan läsas. \nDenna fredag läser vi texter av Magnus Västerbro \nBibliotekets café är öppet.\n2/9 Texter av Kerstin Norborg\n7/10 Texter av Emilia Millares\n28/10 Texter av Emi Gunér\n2/12 Texter av Magnus Västerbro \n
URL:https://sigtunastiftelsen.se/events/existentiellt-litteratursamtal-shared-reading-2/
LOCATION:Sigtunastiftelsens Bibliotek\, Manfred Björkquists allé 4\, Sigtuna\, 193 31
CATEGORIES:Kultur & Bildning
ATTACH;FMTTYPE=image/jpeg:https://sigtunastiftelsen.se/wp-content/uploads/2018/09/Biblioteket3_250x165.jpg
ORGANIZER;CN="Sigtunastiftelsen":MAILTO:info@sigtunastiftelsen.se
END:VEVENT
END:VCALENDAR