BEGIN:VCALENDAR
VERSION:2.0
PRODID:-//Sigtunastiftelsen - ECPv4.6.25//NONSGML v1.0//EN
CALSCALE:GREGORIAN
METHOD:PUBLISH
X-WR-CALNAME:Sigtunastiftelsen
X-ORIGINAL-URL:https://sigtunastiftelsen.se
X-WR-CALDESC:Events for Sigtunastiftelsen
BEGIN:VEVENT
DTSTART;TZID=UTC+1:20181118T110000
DTEND;TZID=UTC+1:20181118T120000
DTSTAMP:20260423T090721
CREATED:20180726T170554Z
LAST-MODIFIED:20181119T092516Z
UID:926-1542538800-1542542400@sigtunastiftelsen.se
SUMMARY:Författarmöte – Maciej Zaremba
DESCRIPTION:Maciej Zaremba är författare och journalist på DN\, belönad med de främsta journalistpriserna. Hans reportageböcker om de tvångssteriliserade kvinnorna\, skolan\, den svenska skogen och senast sjukvårdens kris har inte bara väckt debatt utan ofta lett till politiska förändringar. Nu är han aktuell med Huset med de två tornen där han granskar sitt liv med samma noggrannhet som han tidigare granskat samhället.\nMaciej Zaremba växer upp i ett kommunistiskt Polen utan att träffa några kommunister. Hans värld är människorna i huset med de två tornen. Fadern\, krigsveteran och sjukhuschef\, trettio år äldre än modern\, båda två psykiater. Ingen talar om det förflutna. Ingen talar heller om framtiden\, för inget kan där bli annorlunda. ”Man måste ha levt med det för att förstå hur mycket frid det finns i hopplösheten.” Allting förändras våren 1968. Studenterna i Warszawa gör uppror\, regimen svarar med batonger och hets mot judar. Den unge Maciej hittar på ett eget sätt att trotsa kommunismen. Och på hösten samma år kommer hans mor in i hans rum: ”Vi måste härifrån. Jag är judinna.” De tvära kast i Maciejs liv som flykten till Sverige innebar är prismat för hans barndomsminnen. Idag\, femtio år senare\, är det dags att följa spåren bakåt. Moderns tystnad? Faderns närmast aristokratiska frihetsbehov? Polsk nationalism? Förälskelser\, falska myter och sanna legender? Möt Maciej Zaremba i ett samtal med Sigtunastiftelsens programchef Dan-Erik Sahlberg. \n  \nFörfattarmöte 50 kr \nFörfattarmöte och lunch 225 kr\nVi erbjuder en lunch som förbokas i samband med din anmälan. \n  \nKulturhelgspaket\nKulturhelgspaket 1700 kr\, del i dubbelrum 1550 kr.\nI helgpaketet ingår lördagens konsert med Martin Hederos\, söndagens författarmöte med Maciej Zaremba\, eftermiddagskaffe\, fyrarätters middag\, övernattning\, frukost\, förmiddagskaffe och lunch. \nKulturhelgspaketet bokas på:\nbokningen@sigtunastiftelsen.se\n08-592 589 00 \n
URL:https://sigtunastiftelsen.se/events/forfattarmote-maciej-zaremba/
LOCATION:Sigtunastiftelsen\, Manfred Björkquists allé 4\, Sigtuna\, Sigtuna\, 193 31
CATEGORIES:Författarmöten
ORGANIZER;CN="Sigtunastiftelsen":MAILTO:info@sigtunastiftelsen.se
END:VEVENT
END:VCALENDAR