BEGIN:VCALENDAR
VERSION:2.0
PRODID:-//Sigtunastiftelsen - ECPv4.6.25//NONSGML v1.0//EN
CALSCALE:GREGORIAN
METHOD:PUBLISH
X-WR-CALNAME:Sigtunastiftelsen
X-ORIGINAL-URL:https://sigtunastiftelsen.se
X-WR-CALDESC:Events for Sigtunastiftelsen
BEGIN:VEVENT
DTSTART;TZID=UTC+1:20190311T130000
DTEND;TZID=UTC+1:20190311T140000
DTSTAMP:20260423T090547
CREATED:20181220T130545Z
LAST-MODIFIED:20190311T132215Z
UID:3682-1552309200-1552312800@sigtunastiftelsen.se
SUMMARY:Patrik Lundberg
DESCRIPTION:Välkommen till ett författarmöte med författaren och journalisten Patrik Lundberg\, som berättar om sin senaste bok Berättelsen om Sverige (2018). Berättelsen om Sverige tar sig an demokratifrågan utifrån temat utanförskap. Utanförskap finns överallt\, samtidigt har det aldrig funnits så många möjligheter att påverka. I boken får vi möta personer som på ett eller annat sätt försöker förändra. Patrik Lundberg tar med läsaren på en resa genom Sverige i dag. Från fotbollsklubbar till flyktingar\, från Flashback till skolbibliotek\, från feminister till nationalister. Patrik Lundberg har bland annat\, som adoptivbarn från Sydkorea\, engagerat sig i den samtida adoptivdebatten och prisades för sin debutbok Gul utanpå (2013)\, vilken nominerades till debutantpriset Slangbellan. Han har varit verksam på Helsingborgs Dagblad och Aftonbladet och skrivit flera debattböcker. \nI samverkan med Sigtuna folkhögskola \n  \n
URL:https://sigtunastiftelsen.se/events/forfattarmote-med-patrik-lundberg/
LOCATION:Sigtunastiftelsen\, Manfred Björkquists allé 4\, Sigtuna\, Sigtuna\, 193 31
CATEGORIES:Författarmöten
ATTACH;FMTTYPE=image/jpeg:https://sigtunastiftelsen.se/wp-content/uploads/2018/12/Lundberg_Patrik250x165.jpg
ORGANIZER;CN="Sigtunastiftelsen":MAILTO:info@sigtunastiftelsen.se
END:VEVENT
END:VCALENDAR