BEGIN:VCALENDAR
VERSION:2.0
PRODID:-//Sigtunastiftelsen - ECPv4.6.25//NONSGML v1.0//EN
CALSCALE:GREGORIAN
METHOD:PUBLISH
X-WR-CALNAME:Sigtunastiftelsen
X-ORIGINAL-URL:https://sigtunastiftelsen.se
X-WR-CALDESC:Events for Sigtunastiftelsen
BEGIN:VEVENT
DTSTART;TZID=UTC+1:20251019T143000
DTEND;TZID=UTC+1:20251019T153000
DTSTAMP:20260422T225954
CREATED:20250623T122147Z
LAST-MODIFIED:20251021T090342Z
UID:40091-1760884200-1760887800@sigtunastiftelsen.se
SUMMARY:Författarmöte Patrik Oksanen
DESCRIPTION:Patrik Oksanen är en av Sveriges främsta experter på säkerhetspolitik\, verksam vid Centrum för totalförsvar och samhällets säkerhet vid Försvarshögskolan. I år är han aktuell med sin uppmärksammade bok ”Rysslands hemliga krig mot Sverige.” Du möter honom i ett samtal med Sigtunastiftelsens direktor Helle Klein. \n
URL:https://sigtunastiftelsen.se/events/forfattarmote-patrik-oksanen/
LOCATION:Sigtunastiftelsen\, Manfred Björkquists allé 4\, Sigtuna\, Sigtuna\, 193 31
CATEGORIES:Författarmöten
ATTACH;FMTTYPE=image/jpeg:https://sigtunastiftelsen.se/wp-content/uploads/2025/06/Patrik_Oksanen_Volante_Emil_Fagander_250.jpg
ORGANIZER;CN="Sigtunastiftelsen":MAILTO:info@sigtunastiftelsen.se
END:VEVENT
END:VCALENDAR