BEGIN:VCALENDAR
VERSION:2.0
PRODID:-//Sigtunastiftelsen - ECPv4.6.25//NONSGML v1.0//EN
CALSCALE:GREGORIAN
METHOD:PUBLISH
X-WR-CALNAME:Sigtunastiftelsen
X-ORIGINAL-URL:https://sigtunastiftelsen.se
X-WR-CALDESC:Events for Sigtunastiftelsen
BEGIN:VEVENT
DTSTART;TZID=UTC+1:20250623T140000
DTEND;TZID=UTC+1:20250808T140000
DTSTAMP:20260422T225419
CREATED:20250611T085439Z
LAST-MODIFIED:20250811T081723Z
UID:39696-1750687200-1754661600@sigtunastiftelsen.se
SUMMARY:Guidade visningar\, vardagar kl 14.00 i sommar
DESCRIPTION:Välkommen till sommarens guidade visningar av Sigtunastiftelsen. Under en timmes  rundvandring får du ta del av våra vackra miljöer och  höra mer om vår spännande historia. Visningen är gratis och öppen för allmänheten. Du behöver inte föranmäla dig. \nErbjuds måndag – fredag 14.00 fram till den 8 augusti.\nObservera att fredagen den 4 juli och fredagen den 1  augusti erbjuder vi inte visningar.  \nMax antal deltagare 30 personer. \nSamling i Sigtunastiftelsens kapell. \n
URL:https://sigtunastiftelsen.se/events/guidade-visningar/
LOCATION:Sigtunastiftelsen\, Manfred Björkquists allé 4\, Sigtuna\, Sigtuna\, 193 31
CATEGORIES:Kultur & Bildning
ATTACH;FMTTYPE=image/jpeg:https://sigtunastiftelsen.se/wp-content/uploads/2020/06/C-E-af-Geijerstam-K-G-Hildebrand-K-B-A-Liljencrantz-1935-250x165-1.jpg
ORGANIZER;CN="Sigtunastiftelsen":MAILTO:info@sigtunastiftelsen.se
END:VEVENT
END:VCALENDAR