BEGIN:VCALENDAR
VERSION:2.0
PRODID:-//Sigtunastiftelsen - ECPv4.6.25//NONSGML v1.0//EN
CALSCALE:GREGORIAN
METHOD:PUBLISH
X-WR-CALNAME:Sigtunastiftelsen
X-ORIGINAL-URL:https://sigtunastiftelsen.se
X-WR-CALDESC:Events for Sigtunastiftelsen
BEGIN:VEVENT
DTSTART;TZID=UTC+1:20240124T190000
DTEND;TZID=UTC+1:20240124T213000
DTSTAMP:20260423T011451
CREATED:20240108T070037Z
LAST-MODIFIED:20240131T102035Z
UID:28936-1706122800-1706131800@sigtunastiftelsen.se
SUMMARY:Hammarskjöld - Film och samtal i biograf Gröna Ladan
DESCRIPTION:Hammarskjöld är den danske regissören Per Flys nya storfilm. En tät politisk thriller\, men också ett porträtt av människan Dag och hans svåra roll som FN:s generalsekreterare. \nFilmen med Mikael Persbrandt i huvudrollen hade premiär i december 2023. Sigtunastiftelsens direktor Helle Klein och Caroline Hammarskjöld\, brorsbarnbarn till Dag Hammarskjöld ger en introduktion till filmen. \nI samverkan med biograf Gröna Ladan \n
URL:https://sigtunastiftelsen.se/events/hammarskjold-film-och-samtal-i-biograf-grona-ladan/
LOCATION:Sigtunastiftelsen\, Manfred Björkquists allé 4\, Sigtuna\, Sigtuna\, 193 31
CATEGORIES:Film
ATTACH;FMTTYPE=image/jpeg:https://sigtunastiftelsen.se/wp-content/uploads/2023/12/Hammarskjold-Foto-Niklas-Maupoix-250.jpg
ORGANIZER;CN="Sigtunastiftelsen":MAILTO:info@sigtunastiftelsen.se
END:VEVENT
END:VCALENDAR