BEGIN:VCALENDAR
VERSION:2.0
PRODID:-//Sigtunastiftelsen - ECPv4.6.25//NONSGML v1.0//EN
CALSCALE:GREGORIAN
METHOD:PUBLISH
X-WR-CALNAME:Sigtunastiftelsen
X-ORIGINAL-URL:https://sigtunastiftelsen.se
X-WR-CALDESC:Events for Sigtunastiftelsen
BEGIN:VEVENT
DTSTART;TZID=UTC+1:20200205T190000
DTEND;TZID=UTC+1:20200205T210000
DTSTAMP:20260423T065654
CREATED:20191211T155034Z
LAST-MODIFIED:20200206T132411Z
UID:8713-1580929200-1580936400@sigtunastiftelsen.se
SUMMARY:Il Postino
DESCRIPTION:Mario är en försynt man runt fyrtio som är förälskad i byns vackraste kvinna\, servitrisen Beatrice. Men han är alldeles för blyg för att berätta det för henne. När den store poeten Pablo Neruda som befinner sig i exil i Italien i början av 50-talet\, flyttar till den vackra ön anställs Mario som hans personliga postiljon. Mellan de två udda männen växer en varm vänskap fram. Och vem vet\, kanske kan Neruda hjälpa Mario att hitta de rätta orden för att fånga Beatrice intresse och hjärta?\nHyllad av kritiker och publik världen över har Il Postino från 1994 blivit en modern klassiker. Filmen Oscarsbelönades för bästa musik och nominerades för bästa film\, bästa regi\, bästa manus och bästa manliga huvudroll vid Oscarsgalan 1995. \nI samverkan med biograf Gröna ladan \n
URL:https://sigtunastiftelsen.se/events/il-postino/
LOCATION:Biograf Gröna Ladan i Sigtuna\, Gröna ladan\, Gröna gränd 6\, Sigtuna\, Sverige
CATEGORIES:Film
ATTACH;FMTTYPE=image/jpeg:https://sigtunastiftelsen.se/wp-content/uploads/2019/12/il-postinox250.jpg
ORGANIZER;CN="Sigtunastiftelsen":MAILTO:info@sigtunastiftelsen.se
END:VEVENT
END:VCALENDAR