BEGIN:VCALENDAR
VERSION:2.0
PRODID:-//Sigtunastiftelsen - ECPv4.6.25//NONSGML v1.0//EN
CALSCALE:GREGORIAN
METHOD:PUBLISH
X-WR-CALNAME:Sigtunastiftelsen
X-ORIGINAL-URL:https://sigtunastiftelsen.se
X-WR-CALDESC:Events for Sigtunastiftelsen
BEGIN:VEVENT
DTSTART;TZID=UTC+1:20191018T170000
DTEND;TZID=UTC+1:20191020T150000
DTSTAMP:20260423T124511
CREATED:20190709T135944Z
LAST-MODIFIED:20191111T150856Z
UID:6751-1571418000-1571583600@sigtunastiftelsen.se
SUMMARY:Inom
DESCRIPTION:Under denna helg erbjuds tystnad\, meditation och avspänning. Rum för tankar tro och längtan och för att bara vara. Antalet deltagare är begränsat till 16 personer. Du bor i enkelrum med helpension och serveras vegetarisk kost eller fisk/skaldjur. \nRetreatledare: Lars Björklund\, kaplan och Brita Bolin leg. fysioterapeut \n
URL:https://sigtunastiftelsen.se/events/inom/
LOCATION:Sigtunastiftelsen\, Manfred Björkquists allé 4\, Sigtuna\, Sigtuna\, 193 31
CATEGORIES:Retreater & Samtal
ATTACH;FMTTYPE=image/jpeg:https://sigtunastiftelsen.se/wp-content/uploads/2019/07/exteriör-blå-himmelx250.jpg
ORGANIZER;CN="Sigtunastiftelsen":MAILTO:info@sigtunastiftelsen.se
END:VEVENT
END:VCALENDAR