BEGIN:VCALENDAR
VERSION:2.0
PRODID:-//Sigtunastiftelsen - ECPv4.6.25//NONSGML v1.0//EN
CALSCALE:GREGORIAN
METHOD:PUBLISH
X-WR-CALNAME:Sigtunastiftelsen
X-ORIGINAL-URL:https://sigtunastiftelsen.se
X-WR-CALDESC:Events for Sigtunastiftelsen
BEGIN:VEVENT
DTSTART;TZID=UTC+1:20240126T180000
DTEND;TZID=UTC+1:20240126T190000
DTSTAMP:20260423T005527
CREATED:20240108T070013Z
LAST-MODIFIED:20240131T102109Z
UID:28930-1706292000-1706295600@sigtunastiftelsen.se
SUMMARY:Joanna Rubin Dranger
DESCRIPTION:Joanna Rubin Dranger\, serieskapare\, barnbokskonstnär och illustratör\, är aktuell med den tecknade\ndokumentärromanen Ihågkom oss till liv\, som tilldelades Nordiska Rådets litteraturpris 2023.\nI text och bild gestaltas hur hon börjar nysta i det som ledde till hennes mosters självmord. Rubin Drangers undersökningar leder henne till judeförföljelserna före och under andra världskriget i Tyskland\, Polen\, Litauen och Ryssland – men också till antisemitismen och undfallenheten i de skandinaviska länderna. \nSigtuna Museum visar i samband med programmet sin utställning Mottagandet fredag 26 januari kl. 16 och lördag 27 jan kl. 14\, den dag som är Förintelsens minnesdag. \nMottagandet är en utställning om hur livet i Sigtuna förändrades sommaren 1945 när den lilla staden och dess 1400 invånare tog emot 600 överlevande från Förintelsens koncentrationsläger.\nI samverkan med Sigtuna Museum & Art \n
URL:https://sigtunastiftelsen.se/events/joanna-rubin-dranger/
LOCATION:Sigtunastiftelsen\, Manfred Björkquists allé 4\, Sigtuna\, Sigtuna\, 193 31
CATEGORIES:Författarmöten
ATTACH;FMTTYPE=image/jpeg:https://sigtunastiftelsen.se/wp-content/uploads/2023/12/joannax250.jpg
ORGANIZER;CN="Sigtunastiftelsen%20Evenemang":MAILTO:program@sigtunastiftelsen.se
END:VEVENT
END:VCALENDAR