BEGIN:VCALENDAR
VERSION:2.0
PRODID:-//Sigtunastiftelsen - ECPv4.6.25//NONSGML v1.0//EN
CALSCALE:GREGORIAN
METHOD:PUBLISH
X-WR-CALNAME:Sigtunastiftelsen
X-ORIGINAL-URL:https://sigtunastiftelsen.se
X-WR-CALDESC:Events for Sigtunastiftelsen
BEGIN:VEVENT
DTSTART;TZID=UTC+1:20231208T180000
DTEND;TZID=UTC+1:20231208T220000
DTSTAMP:20260423T005553
CREATED:20230814T130528Z
LAST-MODIFIED:20231221T082303Z
UID:18302-1702058400-1702072800@sigtunastiftelsen.se
SUMMARY:Julbord fredag 8 december - fullbokat
DESCRIPTION:Fullbokat! \nVarmt välkomna till Sigtunastiftelsens stämningsfulla julbord. Måltiden börjar med rykande glögg i Rosengården. \nDärefter väntar ett ljuvligt julbord med laxar\, sillar\, kallskuret\, köttbullar\, veganskt och en dessertbuffé som ingen vill missa! Som vanligt har vi många gröna rätter så det finns något för alla i familjen. För den som älskar sill får vi utöver alla klassiker\, flera nya spännande sillsorter. \nSittningar 18.00 & 18.30 \nPriser\n795 kr vid betalning på plats\n745 kr vid förbetalning med kort på hemsidan\nBarn 4 – 12 år 350 kr\nBarn 0 – 3 år gratis \nOm du som företag vill göra en gruppbokning vänligen kontakta oss på bokningen@sigtunastiftelsen.se \n \n
URL:https://sigtunastiftelsen.se/events/julbord-8-december/
LOCATION:Sigtunastiftelsen\, Manfred Björkquists allé 4\, Sigtuna\, Sigtuna\, 193 31
CATEGORIES:Mat & Dryck
ATTACH;FMTTYPE=image/jpeg:https://sigtunastiftelsen.se/wp-content/uploads/2018/06/Rosengard-jul-pohner-puff-250x165-1.jpg
ORGANIZER;CN="Sigtunastiftelsen":MAILTO:info@sigtunastiftelsen.se
END:VEVENT
END:VCALENDAR