BEGIN:VCALENDAR
VERSION:2.0
PRODID:-//Sigtunastiftelsen - ECPv4.6.25//NONSGML v1.0//EN
CALSCALE:GREGORIAN
METHOD:PUBLISH
X-WR-CALNAME:Sigtunastiftelsen
X-ORIGINAL-URL:https://sigtunastiftelsen.se
X-WR-CALDESC:Events for Sigtunastiftelsen
BEGIN:VEVENT
DTSTART;TZID=UTC+1:20231216T130000
DTEND;TZID=UTC+1:20231216T170000
DTSTAMP:20260423T005650
CREATED:20230814T080254Z
LAST-MODIFIED:20231218T082739Z
UID:18286-1702731600-1702746000@sigtunastiftelsen.se
SUMMARY:Julbord lördag 16 december
DESCRIPTION:Varmt välkomna till Sigtunastiftelsens stämningsfulla julbord. Måltiden börjar med rykande glögg i Rosengården. Därefter väntar ett ljuvligt julbord med laxar\, sillar\, kallskuret\, köttbullar\, veganskt och en dessertbuffé som ingen vill missa! Som vanligt har vi många gröna rätter så det finns något för alla i familjen. För den som älskar sill får vi utöver alla klassiker\, flera nya spännande sillsorter. \nSittningar: \n13.00 & 14.00 \n18.00 & 18.30 \nPriser: \n795 kr vid betalning på plats\n745 kr vid förbetalning med kort på hemsidan\nBarn 3 – 12 år 350 kr\nBarn 0 – 2 år gratis \n \n
URL:https://sigtunastiftelsen.se/events/julbord-fredag-16-december/
LOCATION:Sigtunastiftelsen\, Manfred Björkquists allé 4\, Sigtuna\, Sigtuna\, 193 31
CATEGORIES:Mat & Dryck
ATTACH;FMTTYPE=image/jpeg:https://sigtunastiftelsen.se/wp-content/uploads/2018/06/Rosengard-jul-pohner-puff-250x165-1.jpg
ORGANIZER;CN="Sigtunastiftelsen":MAILTO:info@sigtunastiftelsen.se
END:VEVENT
END:VCALENDAR