BEGIN:VCALENDAR
VERSION:2.0
PRODID:-//Sigtunastiftelsen - ECPv4.6.25//NONSGML v1.0//EN
CALSCALE:GREGORIAN
METHOD:PUBLISH
X-WR-CALNAME:Sigtunastiftelsen
X-ORIGINAL-URL:https://sigtunastiftelsen.se
X-WR-CALDESC:Events for Sigtunastiftelsen
BEGIN:VEVENT
DTSTART;TZID=UTC+1:20210421T190000
DTEND;TZID=UTC+1:20210421T210000
DTSTAMP:20260419T131711
CREATED:20210111T060015Z
LAST-MODIFIED:20210422T064713Z
UID:12162-1619031600-1619038800@sigtunastiftelsen.se
SUMMARY:Kan jag ge naturen en hand? - Digital föreläsning
DESCRIPTION: \nEkologen och naturvårdaren Ola Jennersten från WWF – expert på biologisk mångfald och internationell naturvård\, berättar om vad vi var och en kan göra för att vända den negativa trenden beträffande artdöd och biologisk mångfald för växter och djur – i trädgården\, jordbrukslandskapet och skogen. Ola Jennersten\, som bor i Sigtuna kommun\, är i höst aktuell med boken Naturlycka: vår värdefulla biologiska mångfald\, där han i ord och bild berättar om vilka blommor och växter som våra bin\, humlor\, fjärilar och andra insekter – pollinatörerna – behöver allra mest. Belöningen blir en prunkande och levande trädgård och natur.\nI samverkan med Naturskyddsföreningen i Sigtunabygden \n
URL:https://sigtunastiftelsen.se/events/kan-jag-ge-naturen-en-hand/
LOCATION:Digitalt evenemang\, Sverige
CATEGORIES:Seminarier & Kurser
ATTACH;FMTTYPE=image/jpeg:https://sigtunastiftelsen.se/wp-content/uploads/2020/08/ola_jennersten-002x250-1.jpg
ORGANIZER;CN="Sigtunastiftelsen":MAILTO:info@sigtunastiftelsen.se
END:VEVENT
END:VCALENDAR