BEGIN:VCALENDAR
VERSION:2.0
PRODID:-//Sigtunastiftelsen - ECPv4.6.25//NONSGML v1.0//EN
CALSCALE:GREGORIAN
METHOD:PUBLISH
X-WR-CALNAME:Sigtunastiftelsen
X-ORIGINAL-URL:https://sigtunastiftelsen.se
X-WR-CALDESC:Events for Sigtunastiftelsen
BEGIN:VEVENT
DTSTART;TZID=UTC+1:20181115T183000
DTEND;TZID=UTC+1:20181115T193000
DTSTAMP:20260423T090304
CREATED:20181105T124108Z
LAST-MODIFIED:20181119T093029Z
UID:3055-1542306600-1542310200@sigtunastiftelsen.se
SUMMARY:Konstens plats i samhället
DESCRIPTION:Varmt välkommen till Sigtunastiftelsen för ett öppet samtal om konstens roll i samhället. Vad kan konst tillföra ett samhälle? Är konst viktigt? Inbjudna konstnärerna Anton Alvarez och Astrid Sylwan berättar om hur deras konst tar plats\, kommunicerar med människor och är en del av samhället. Vad tycker du? Vad kan konsten tillföra en plats och ett samhälle? Varmt välkommen att lyssna\, delta och ställa frågor. \nSigtunastiftelsen i samverkan med Sigtuna Museum & Art \n
URL:https://sigtunastiftelsen.se/events/konstens-plats-i-samhallet/
LOCATION:Sigtunastiftelsens Bibliotek\, Manfred Björkquists allé 4\, Sigtuna\, 193 31
CATEGORIES:Konst
ATTACH;FMTTYPE=image/jpeg:https://sigtunastiftelsen.se/wp-content/uploads/2018/11/BKR-astrid-sylwan-citybanan250x165.jpg
ORGANIZER;CN="Sigtunastiftelsen":MAILTO:info@sigtunastiftelsen.se
END:VEVENT
END:VCALENDAR