BEGIN:VCALENDAR
VERSION:2.0
PRODID:-//Sigtunastiftelsen - ECPv4.6.25//NONSGML v1.0//EN
CALSCALE:GREGORIAN
METHOD:PUBLISH
X-WR-CALNAME:Sigtunastiftelsen
X-ORIGINAL-URL:https://sigtunastiftelsen.se
X-WR-CALDESC:Events for Sigtunastiftelsen
BEGIN:VEVENT
DTSTART;TZID=UTC+1:20260304T150000
DTEND;TZID=UTC+1:20260304T170000
DTSTAMP:20260422T210527
CREATED:20251217T095327Z
LAST-MODIFIED:20260324T114638Z
UID:46730-1772636400-1772643600@sigtunastiftelsen.se
SUMMARY:Kultursamtal med fotografen Julia Lindemalm
DESCRIPTION:Julia Lindemalm är en prisad fotograf som på olika sätt undersöker relationen mellan människor och djur. I hennes första bok\, Katt People (2016)\, undersöker hon människans relation till katten med bl.a. bilder från kattutställningar\, hem för övergivna katter och älskade familjekatter. Hennes andra bok Zoo World (2018) innehåller bilder från europeiska och amerikanska djurparker. Zoo World har också visats som utställning på olika ställen i Sverige och projektet har tilldelats TT:s Fotostipendium\, Malmö stads kulturstipendium och fick även motta det första Lars Tunbjörk-priset med motiveringen: ”Med humor och empati betraktar Julia Lindemalm människor som fascineras av djur i bur. Hennes bildspråk är både rakt på sak och poetiskt när hon lyfter fram vår längtan och förvirring inför det okända. I Lindemalms bilder är människan lika fången i sin föreställningsvärld som djuren är i sina konstruerade livsrum på zoo.” \nJulia Lindenmalm (f. 1984) är även frilansfotograf och har arbetat för bland andra Sydsvenskan\, Göteborgs-Posten\, Trelleborgs Allehanda\, norska Dagbladet och danska Politiken. Hon har en kandidatexamen i bildjournalistik från Mittuniversitetet och har studerat vid Danmarks journalisthögskola\, Journalisthøjskolen\, samt har läst Critical animal studies vid Lunds universitet. \nBoka gärna middag i vår restaurang efter evenemanget. \nRestaurangen öppnar 17.oo   www.sigtunastiftelsen.se ”BOKA BORD” \n
URL:https://sigtunastiftelsen.se/events/kultursamtal-med-fotografen-julia-lindemalm/
LOCATION:Sigtunastiftelsens Bibliotek\, Manfred Björkquists allé 4\, Sigtuna\, 193 31
CATEGORIES:Kultur & Bildning
ATTACH;FMTTYPE=image/jpeg:https://sigtunastiftelsen.se/wp-content/uploads/2025/12/JuliaLindemalmDavidnemanx165.jpg
ORGANIZER;CN="Sigtunastiftelsen":MAILTO:info@sigtunastiftelsen.se
END:VEVENT
END:VCALENDAR