BEGIN:VCALENDAR
VERSION:2.0
PRODID:-//Sigtunastiftelsen - ECPv4.6.25//NONSGML v1.0//EN
CALSCALE:GREGORIAN
METHOD:PUBLISH
X-WR-CALNAME:Sigtunastiftelsen
X-ORIGINAL-URL:https://sigtunastiftelsen.se
X-WR-CALDESC:Events for Sigtunastiftelsen
BEGIN:VEVENT
DTSTART;TZID=UTC+1:20260414T150000
DTEND;TZID=UTC+1:20260414T170000
DTSTAMP:20260420T142537
CREATED:20251217T132124Z
LAST-MODIFIED:20260112T075208Z
UID:46813-1776178800-1776186000@sigtunastiftelsen.se
SUMMARY:Kultursamtal: Shanti Roney - Inställt!
DESCRIPTION:Möt en av våra främsta skådespelare\, Shanti Roney\, som berättar om sin väg till skådespelaryrket och om sitt konstnärskap idag. Han har medverkat i ett 60-tal film- och tv-produktioner\, bl.a. Vägen ut\, Tillsammans\, Tusenbröder och Nymphomaniac\, samt har arbetat med filmregissörer som Lars von Trier\, Jan Troell\, Tomas Vinterberg och Lucas Moodysson. \nShanti Roney växte upp med sin syskon i ett kollektiv inom den alternativa vänstern på 1970-talet utanför Farstorp\, utbildade sig på Teaterhögskolan i Göteborg och tillhör idag Dramatens fasta ensemble. Han har arbetat på teatrar som Kulturhuset Stadsteatern\, Göteborgs stadsteater\, Det Kongelige Teater i Köpenhamn\, Betty Nansen teatret i Köpenhamn och Nationalteatern i Oslo. På Dramaten har Shanti Roney medverkat i föreställningar som Personkrets 3:1 av Lars Norén\, Linje lusta i regi av Stefan Larsson\, Häxjakten i regi av Alexander Mørk-Eidem och var hösten 2025 aktuell som Claudius i Hamlet i regi av Mattias Andersson. \n
URL:https://sigtunastiftelsen.se/events/kultursamtal-shanti-roney/
LOCATION:Sigtunastiftelsen\, Manfred Björkquists allé 4\, Sigtuna\, Sigtuna\, 193 31
CATEGORIES:Kultur & Bildning
ATTACH;FMTTYPE=image/jpeg:https://sigtunastiftelsen.se/wp-content/uploads/2025/12/roney_shantisorenvilks250.jpg
ORGANIZER;CN="Sigtunastiftelsen":MAILTO:info@sigtunastiftelsen.se
END:VEVENT
END:VCALENDAR