BEGIN:VCALENDAR
VERSION:2.0
PRODID:-//Sigtunastiftelsen - ECPv4.6.25//NONSGML v1.0//EN
CALSCALE:GREGORIAN
METHOD:PUBLISH
X-WR-CALNAME:Sigtunastiftelsen
X-ORIGINAL-URL:https://sigtunastiftelsen.se
X-WR-CALDESC:Events for Sigtunastiftelsen
BEGIN:VEVENT
DTSTART;TZID=UTC+1:20200208T120000
DTEND;TZID=UTC+1:20200208T150000
DTSTAMP:20260423T071422
CREATED:20191212T144126Z
LAST-MODIFIED:20200210T095250Z
UID:8725-1581163200-1581174000@sigtunastiftelsen.se
SUMMARY:Lördagsöppet i  bibliotek & arkiv
DESCRIPTION:På Sigtunastiftelsen finns Sveriges största privata bibliotek och arkiv som är tillgängligt för allmänheten. Denna lördag visar vi upp vår unika K-märkta miljö för dig som inte hittat hit under våra ordinarie öppettider. Du kan låna ny och klassisk litteratur\, försjunka i spännande tidningsklipp eller bara insupa atmosfären och ta del av en bit levande kulturhistoria. Vi fyndar i vårt förflutna och berättar om våra aktuella fokusområden – hållbarhet\, mångkultur\, religion\, kultur\, samhälle och vetenskap – samt om vår funktion som en öppen och hållbar studieplats\, forskningsmiljö och kulturrum. Vi bjuder på kaffe och kaka.\nSigtunastiftelsens restaurang är öppen från klockan 12.00. Bordsbokning: 08 592 589 00 \n
URL:https://sigtunastiftelsen.se/events/lordagsoppet-i-sigtunastiftelsens-bibliotek-arkiv/
LOCATION:Sigtunastiftelsen\, Manfred Björkquists allé 4\, Sigtuna\, Sigtuna\, 193 31
CATEGORIES:Öppet hus
ATTACH;FMTTYPE=image/jpeg:https://sigtunastiftelsen.se/wp-content/uploads/2019/12/Hartman-biblioteksfönsterx250.jpg
ORGANIZER;CN="Sigtunastiftelsen":MAILTO:info@sigtunastiftelsen.se
END:VEVENT
END:VCALENDAR