BEGIN:VCALENDAR
VERSION:2.0
PRODID:-//Sigtunastiftelsen - ECPv4.6.25//NONSGML v1.0//EN
CALSCALE:GREGORIAN
METHOD:PUBLISH
X-WR-CALNAME:Sigtunastiftelsen
X-ORIGINAL-URL:https://sigtunastiftelsen.se
X-WR-CALDESC:Events for Sigtunastiftelsen
BEGIN:VEVENT
DTSTART;TZID=UTC+1:20181117T203000
DTEND;TZID=UTC+1:20181117T213000
DTSTAMP:20260423T105443
CREATED:20180726T170020Z
LAST-MODIFIED:20181119T092824Z
UID:923-1542486600-1542490200@sigtunastiftelsen.se
SUMMARY:Martin Hederos – Pianosolos
DESCRIPTION:Martin Hederos\, pianisten i grupperna The Soundtrack of Our Lives och Tonbruket\, gjorde 2017 en hyllad debutskiva som solopianist. Med albumet Pianosolos\, visar Martin Hederos vilken lyhörd och begåvad pianist och kompositör/improvisatör han är. Kritikerna har kallat musiken ”filmisk” och liknat Martins spelsätt med Keith Jarrets. För releasen av Pianosolos engagerades konstnären Jesper Waldersten att illustrera till musiken live. Förutom att vara en uppskattad illustratör och satiriker på bland annat Dagens Nyheter har Jesper Waldersten gett ut flera hyllade böcker och ställt ut sin konst både i Sverige och internationellt. Han har också gjort flera skivomslag till Martins band Tonbruket.\nNär vi nu får höra Martin spela följer Jespers illustrationer med som ett bildspel i bakgrunden. En konsertupplevelse för både öron och ögon! \n  \nHelgens erbjudande \nKonsert 100 kr\nKonsert & middag 550 kr\nVi erbjuder en middag innan konserten som förbokas i samband med din anmälan. \n  \nKulturhelgspaket\nKulturhelgspaket 1700 kr\,  del i dubbelrum 1550 kr.\nI helgpaketet ingår lördagens konsert med Martin Hederos\, söndagens författarmöte med Maciej Zaremba\, eftermiddagskaffe\, fyrarätters middag\, övernattning\, frukost\, förmiddagskaffe och lunch. \nKulturhelgspaketet bokas på:\nbokningen@sigtunastiftelsen.se\n08-592 589 00 \n
URL:https://sigtunastiftelsen.se/events/martin-hederos-pianosolos/
LOCATION:Sigtunastiftelsen\, Manfred Björkquists allé 4\, Sigtuna\, Sigtuna\, 193 31
CATEGORIES:Musik
ATTACH;FMTTYPE=image/jpeg:https://sigtunastiftelsen.se/wp-content/uploads/2018/07/Martin-Hedenros_073_250X165.jpg
ORGANIZER;CN="Sigtunastiftelsen":MAILTO:info@sigtunastiftelsen.se
END:VEVENT
END:VCALENDAR