BEGIN:VCALENDAR
VERSION:2.0
PRODID:-//Sigtunastiftelsen - ECPv4.6.25//NONSGML v1.0//EN
CALSCALE:GREGORIAN
METHOD:PUBLISH
X-WR-CALNAME:Sigtunastiftelsen
X-ORIGINAL-URL:https://sigtunastiftelsen.se
X-WR-CALDESC:Events for Sigtunastiftelsen
BEGIN:VEVENT
DTSTART;TZID=UTC+1:20231125T140000
DTEND;TZID=UTC+1:20231125T160000
DTSTAMP:20260423T025008
CREATED:20230707T101053Z
LAST-MODIFIED:20231127T081132Z
UID:27263-1700920800-1700928000@sigtunastiftelsen.se
SUMMARY:Minnet och rädslan - Författarsamtal med Jesper Högström
DESCRIPTION:Jesper Högström\, författare\, journalist och översättare\, kommer under hösten 2023 ut med Minnet och rädslan\, en ny biografi över Gunnar Ekelöf. Ekelöf var den litterära modernismens centralfigur i Sverige\, mytologiserad av både sig själv och andra. Han var levnadskonstnären\, snobben och vägvisaren till underjorden som blev landets mest uppburne poet. Efter sina rosade böcker om Hjalmar Söderberg och Tora Dahl kommer Jesper Högström ut med den första Ekelöfbiografin sedan Carl Olov Sommars biografi 1989. \nI samverkan med Ekelöfsällskapet \n  \n
URL:https://sigtunastiftelsen.se/events/minnet-och-radslan-forfattarsamtal-med-jesper-hogstrom/
LOCATION:Sigtunastiftelsen\, Manfred Björkquists allé 4\, Sigtuna\, Sigtuna\, 193 31
CATEGORIES:Författarmöten
ATTACH;FMTTYPE=image/jpeg:https://sigtunastiftelsen.se/wp-content/uploads/2023/07/Jesperx250.jpg
ORGANIZER;CN="Sigtunastiftelsen%20Evenemang":MAILTO:program@sigtunastiftelsen.se
END:VEVENT
END:VCALENDAR