BEGIN:VCALENDAR
VERSION:2.0
PRODID:-//Sigtunastiftelsen - ECPv4.6.25//NONSGML v1.0//EN
CALSCALE:GREGORIAN
METHOD:PUBLISH
X-WR-CALNAME:Sigtunastiftelsen
X-ORIGINAL-URL:https://sigtunastiftelsen.se
X-WR-CALDESC:Events for Sigtunastiftelsen
BEGIN:VEVENT
DTSTART;TZID=UTC+1:20230316T190000
DTEND;TZID=UTC+1:20230316T210000
DTSTAMP:20260423T030830
CREATED:20230109T070036Z
LAST-MODIFIED:20230322T142342Z
UID:24528-1678993200-1679000400@sigtunastiftelsen.se
SUMMARY:Modern självhushållning
DESCRIPTION:Alva Herdevall och Anders Rydell bor i Krusenberg mellan Sigtuna och Uppsala. Tillsammans bytte paret och de två sönerna livet i Stockholm mot ett rött torp från 1700-talet. På denna mark förenar de numera traditionella metoder med moderna idéer för att visa att en högre grad av självhushållning är möjlig för alla. Förra våren kom deras bok Modern självhushållning\, som bygger på deras erfarenheter i Krusenberg: kommersiell slow gardening\, blomsterodling\, köksträdgård\, höns\, ankor och biskötselns hemligheter\, hur du kärnar och syrar smör och rör ihop skovax och förvandlar mördarsniglar till foie gras. Dessutom ges recept på läskande sommarvin av rabarber\, hur du gör din egen hudkräm och tvål samt tillverkar filbunke och mycket mer. Ett föredrag fyllt med inspiration\, oväntade idéer och handfasta tips. \nEntré 80 kr\, medlemmar i trädgårdsföreningen ges rabatterat pris 50 kr. \nI samverkan med Sigtuna Trädgårdsförening \n
URL:https://sigtunastiftelsen.se/events/modern-sjalvhushallning/
LOCATION:Sigtunastiftelsen\, Manfred Björkquists allé 4\, Sigtuna\, Sigtuna\, 193 31
CATEGORIES:Kultur & Bildning
ATTACH;FMTTYPE=image/jpeg:https://sigtunastiftelsen.se/wp-content/uploads/2023/01/Alva-Herdevall-Anders-Rydell-_Modern-sjalvhushallning_foto-Roland-Persson.jpgx250.jpg
ORGANIZER;CN="Sigtunastiftelsen":MAILTO:info@sigtunastiftelsen.se
END:VEVENT
END:VCALENDAR