BEGIN:VCALENDAR
VERSION:2.0
PRODID:-//Sigtunastiftelsen - ECPv4.6.25//NONSGML v1.0//EN
CALSCALE:GREGORIAN
METHOD:PUBLISH
X-WR-CALNAME:Sigtunastiftelsen
X-ORIGINAL-URL:https://sigtunastiftelsen.se
X-WR-CALDESC:Events for Sigtunastiftelsen
BEGIN:VEVENT
DTSTART;TZID=UTC+1:20190408T190000
DTEND;TZID=UTC+1:20190408T200000
DTSTAMP:20260423T125555
CREATED:20190109T081127Z
LAST-MODIFIED:20190409T080804Z
UID:3996-1554750000-1554753600@sigtunastiftelsen.se
SUMMARY:Möte med Ellen Nyman
DESCRIPTION:Välkommen att möta Ellen Nyman\, skådespelare\, regissör\, konstnär\, som i sitt konstnärskap undersöker och ifrågasätter värderingar och fördomar. Ellen Nyman kommer från Asmara i Eritrea\, är uppvuxen i Stockholm och utbildad skådespelare i Århus\, Danmark. Efter 20 år i Danmark\, med teater\, film & tv och det politiska konstprojektet Spacecampaign\, vars syfte var att nyansera den mediala debatten kring etniska minoriteter\, återvände hon 2011 till Stockholm. I sina konstprojekt har hon ställt ut i och utanför Europa och jobbar både i konst och teater med en performativ och politisk estetik. Hon är engagerad i kulturföreningen TRYCK\, för att ge plats åt svarta kulturarbetare och forskare inom humaniora\, och är utbildad i konstnärlig forskning på Malmö teaterhögskola samt undervisar. I Sverige har hon både skådespelat och regisserat inom teater\, film & tv\, bl.a. som skådespelare på Malmö stadsteater och som regissör på Teater Tribunalen och Folkoperan. Ellen Nyman är vintern 2018/19 aktuell som skådespelare på Dramaten i Tracy Letts drama Mary Page Marlowe.     \nI samverkan med Sigtuna folkhögskola       \n
URL:https://sigtunastiftelsen.se/events/mote-med-ellen-nyman/
LOCATION:Sigtunastiftelsen\, Manfred Björkquists allé 4\, Sigtuna\, Sigtuna\, 193 31
CATEGORIES:Seminarier & Kurser
ATTACH;FMTTYPE=image/jpeg:https://sigtunastiftelsen.se/wp-content/uploads/2019/01/Ellennymanbred.jpg
ORGANIZER;CN="Sigtunastiftelsen":MAILTO:info@sigtunastiftelsen.se
END:VEVENT
END:VCALENDAR