BEGIN:VCALENDAR
VERSION:2.0
PRODID:-//Sigtunastiftelsen - ECPv4.6.25//NONSGML v1.0//EN
CALSCALE:GREGORIAN
METHOD:PUBLISH
X-WR-CALNAME:Sigtunastiftelsen
X-ORIGINAL-URL:https://sigtunastiftelsen.se
X-WR-CALDESC:Events for Sigtunastiftelsen
BEGIN:VEVENT
DTSTART;TZID=UTC+1:20211114T133000
DTEND;TZID=UTC+1:20211114T170000
DTSTAMP:20260423T052452
CREATED:20210815T070058Z
LAST-MODIFIED:20211116T081313Z
UID:8900-1636896600-1636909200@sigtunastiftelsen.se
SUMMARY:Möten med W.G Sebald
DESCRIPTION:Den 25 februari 2000 ställde Susan Sontag följande fråga i Times Literary Supplement: ”Är litterär storhet fortfarande möjlig? Hur ser ett storartat litterärt projekt ut idag\, då de litterära ambitionerna ständigt minskar med en samtidig dominans av det flacka\, det ytliga\, det meningslöst grymma som normativa romanämnen?”\nHennes svar var W.G. Sebalds verk. Den tysk-brittiske författaren W.G. Sebalds (1944 – 2001) böcker har beskrivits som säregna hybrider av självbiografi\, reseskildring\, essä och fiktion. Han började skriva skönlitteratur sent i livet\, men blev snabbt mycket omtalad. Fram till sin alltför tidiga död var han ständigt omtalad som en given Nobelpriskandidat. Till Sebalds mest kända böcker räknas Utvandrade\, Saturnus ringar\, En engelsk vallfart samt Austerlitz. \nÅr 2018 grundades Sebaldsällskapet\, vars uttalade mål är att sprida kännedomen om Sebalds viktiga författarskap. I samarbete med Sigtunastiftelsen arrangerar nu Sebaldsällskapet sitt mest ambitiösa evenemang någonsin med föredrag och samtal kring W.G. Sebald – med inbjudna gäster från Sverige och andra länder. \nMedverkande: Agneta Pleijel\, Staffan Scheja\, Astrid Seeberger\, Mats Almegård\, Magnus Bergh\, Axel Englund\, Madeleine Gustafsson\, Gunnar D. Hansson\, Anders Olsson\, Magnus Roosman\, Ulrika Wallenström och Gunilla Palmstierna-Weiss m fl. I samverkan med Sebaldsällskapet \nEntré och kaffe 150 kr\n100 kr för medlemmar i Sebaldsällskapet \nProgram\n
URL:https://sigtunastiftelsen.se/events/moten-med-w-g-sebald/
LOCATION:Sigtunastiftelsen\, Manfred Björkquists allé 4\, Sigtuna\, Sigtuna\, 193 31
CATEGORIES:Seminarier & Kurser
ATTACH;FMTTYPE=image/jpeg:https://sigtunastiftelsen.se/wp-content/uploads/2019/12/WG_Sebald_1998_Barbara-Schindlerx250.jpeg
ORGANIZER;CN="Sigtunastiftelsen":MAILTO:info@sigtunastiftelsen.se
END:VEVENT
END:VCALENDAR