BEGIN:VCALENDAR
VERSION:2.0
PRODID:-//Sigtunastiftelsen - ECPv4.6.25//NONSGML v1.0//EN
CALSCALE:GREGORIAN
METHOD:PUBLISH
X-WR-CALNAME:Sigtunastiftelsen
X-ORIGINAL-URL:https://sigtunastiftelsen.se
X-WR-CALDESC:Events for Sigtunastiftelsen
BEGIN:VEVENT
DTSTART;TZID=UTC+1:20260320T200000
DTEND;TZID=UTC+1:20260320T210000
DTSTAMP:20260422T225953
CREATED:20251217T115354Z
LAST-MODIFIED:20260323T083317Z
UID:46774-1774036800-1774040400@sigtunastiftelsen.se
SUMMARY:Musikbar: Lena Jonsson Trio
DESCRIPTION:Lena Jonsson är en av våra mest uppmärksammade och nydanande folkmusiker som ofta spelar internationellt med sin trio. Hennes förmåga att balansera djup kunskap om traditionell svensk folkmusik med innovativ konstnärlig känsla\, livsglädje och en rockstjärnas karisma har gjort henne till en av Skandinaviens mest visionära musiker. Hon har skapat en unik stil inspirerad av traditionell svensk musik såväl som rock\, pop och amerikanska old time- och bluegrasstraditioner. Tillsammans med gitarristen Erik Ronström och basisten Krydda Sundström skapar de en virtuos och lekfull trio. \nLena Jonsson Trio har bland annat utsetts till Årets artist på Svenska Folk- och Världsmusikgalan 2023. Deras platta Stories from the Outside vann både en svensk Grammis och Manifestpriset 2021 samt årets album av LIRA Music Magazine och årets låt av Sveriges Radio. Lena Jonsson Trio släppte sitt tredje album Elements 2023\, som utsågs till Bästa utgåva på Folk- och Världsmusikgalan. Lena Jonsson kommer från Bollnäs i Hälsingland\, är utbildad på Kungliga Musikhögskolan och Berklee College of Music i Boston och är riksspelman. \nVälkommen att lyssna på visionär folkmusik! \nBoka gärna middag eller vår populära kulturmacka före evenemanget.\nRestaurangen öppnar 17.00\, www.sigtunastiftelsen.se ”BOKA BORD” \n
URL:https://sigtunastiftelsen.se/events/musikbar-lena-jonsson-trio/
LOCATION:Sigtunastiftelsen\, Manfred Björkquists allé 4\, Sigtuna\, Sigtuna\, 193 31
CATEGORIES:Musik
ATTACH;FMTTYPE=image/jpeg:https://sigtunastiftelsen.se/wp-content/uploads/2025/12/LJ3lila.250.jpg
ORGANIZER;CN="Sigtunastiftelsen":MAILTO:info@sigtunastiftelsen.se
END:VEVENT
END:VCALENDAR