BEGIN:VCALENDAR
VERSION:2.0
PRODID:-//Sigtunastiftelsen - ECPv4.6.25//NONSGML v1.0//EN
CALSCALE:GREGORIAN
METHOD:PUBLISH
X-WR-CALNAME:Sigtunastiftelsen
X-ORIGINAL-URL:https://sigtunastiftelsen.se
X-WR-CALDESC:Events for Sigtunastiftelsen
BEGIN:VEVENT
DTSTART;TZID=UTC+1:20260325T180000
DTEND;TZID=UTC+1:20260325T200000
DTSTAMP:20260422T230319
CREATED:20251217T124451Z
LAST-MODIFIED:20260326T081917Z
UID:46792-1774461600-1774468800@sigtunastiftelsen.se
SUMMARY:Mystik salong: Lisbeth Gustafsson om Emilia Fogelklou
DESCRIPTION: I den mystika salongen möts vi\, lyssnar på föredrag och uppläsningar\, samtalar\, reflekterar och kontemplerar tillsammans i en vacker och lugn litterär miljö. I en tid av kriser\, polarisering och accelererade hastigheter\, behövs offentliga rum för dialog\, långsam reflektion och inre lyssnande. \nVi möts klockan 18 för meditativ stillhet\, recitation av texter och ett fördjupande föredrag. Omkring kl. 19 blir det paus med Bibblan bar som erbjuder dryck och snacks. Därefter följer ett öppet samtal. \nDenna kväll berättar Lisbeth Gustafsson om teologen och författaren Emilia Fogelklous verklighetserfarenhet och gärning. Emilia Fogelklou var en kristen mystiker\, pedagog\, teolog\, religionshistoriker och författare. Hon blev den första kvinnliga teol. kand. i Sverige 1909 och den första kvinnliga teologie hedersdoktor 1941. 1922 gifte hon sig med kulturgeografen Arnold Norlind\, som gick bort redan 1929. Hon gav ut kärleksbiografi-klassikern Arnold 1944. Hon tillhörde Fogelstadsgruppen\, var pedagog på Birkagården och Viggbyholm och var en hel del på Sigtunastiftelsen. Emilia Fogelklou kom som kväkare att bli en visionär pionjär inom flera områden som religionshistoria\, pedagogik\, kvinnlig rösträtt\, fredsarbete\, psykoterapi\, religionssociologi m.m. \nLisbeth Gustafsson är journalist\, författare\, hedersdoktor i teologi vid Uppsala universitet. Hon har följt den andliga utvecklingen i Sverige i decennier och bland annat varit Svenska kyrkans nationella kultursekreterare och biträdande förbundsdirektor på Bilda. Idag leder hon retreater och är senior konsult inom kommunikation av livsfrågor och tro samt är ordförande i Mäster Eckhartsällskapet. Hon är en återkommande röst i Sveriges Radios Tankar för dagen.  \n
URL:https://sigtunastiftelsen.se/events/mystik-salong-lisbeth-gustafsson-om-emilia-fogelklou/
LOCATION:Sigtunastiftelsen\, Manfred Björkquists allé 4\, Sigtuna\, Sigtuna\, 193 31
CATEGORIES:Kultur & Bildning
ATTACH;FMTTYPE=image/jpeg:https://sigtunastiftelsen.se/wp-content/uploads/2019/07/bibliotekx250.jpg
ORGANIZER;CN="Sigtunastiftelsen":MAILTO:info@sigtunastiftelsen.se
END:VEVENT
END:VCALENDAR