BEGIN:VCALENDAR
VERSION:2.0
PRODID:-//Sigtunastiftelsen - ECPv4.6.25//NONSGML v1.0//EN
CALSCALE:GREGORIAN
METHOD:PUBLISH
X-WR-CALNAME:Sigtunastiftelsen
X-ORIGINAL-URL:https://sigtunastiftelsen.se
X-WR-CALDESC:Events for Sigtunastiftelsen
BEGIN:VEVENT
DTSTART;TZID=UTC+1:20190315T170000
DTEND;TZID=UTC+1:20190317T143000
DTSTAMP:20260423T085340
CREATED:20181228T101624Z
LAST-MODIFIED:20190401T133342Z
UID:3848-1552669200-1552833000@sigtunastiftelsen.se
SUMMARY:Ny - Retreathelg
DESCRIPTION:I Refugiet på Sigtunastiftelsen erbjuds retreater med  tystnad\, meditation och avspänning. Rum för tankar\, tro och längtan – och för att bara vara. Under retreaterna serveras fisk/skaldjur och vegetarisk kost. Boendet sker i enkelrum med helpension. Maxantal deltagare 16 personer. Retreatledare: Lars Björklund\, kaplan och Brita Bolin\, leg fysioterapeut. \nOrdinarie pris 2850 kr\, ett begränsat antal platser erbjuds studenter till det reducerade priset 1750 kr. \n  \n
URL:https://sigtunastiftelsen.se/events/ny/
LOCATION:Sigtunastiftelsen\, Manfred Björkquists allé 4\, Sigtuna\, Sigtuna\, 193 31
ATTACH;FMTTYPE=image/jpeg:https://sigtunastiftelsen.se/wp-content/uploads/2018/12/vinterfriluftskyrkan250x165.jpg
ORGANIZER;CN="Sigtunastiftelsen":MAILTO:info@sigtunastiftelsen.se
END:VEVENT
END:VCALENDAR