BEGIN:VCALENDAR
VERSION:2.0
PRODID:-//Sigtunastiftelsen - ECPv4.6.25//NONSGML v1.0//EN
CALSCALE:GREGORIAN
METHOD:PUBLISH
X-WR-CALNAME:Sigtunastiftelsen
X-ORIGINAL-URL:https://sigtunastiftelsen.se
X-WR-CALDESC:Events for Sigtunastiftelsen
BEGIN:VEVENT
DTSTART;TZID=UTC+1:20211027T190000
DTEND;TZID=UTC+1:20211027T190000
DTSTAMP:20260422T125417
CREATED:20210816T070028Z
LAST-MODIFIED:20211028T064502Z
UID:17147-1635361200-1635361200@sigtunastiftelsen.se
SUMMARY:Om skogen
DESCRIPTION:Hur står det till med den svenska skogen? De flesta är medvetna om att Amazonas och Borneos regnskogar är utsatta för skövling\, men att nästan alla Sveriges naturskogar försvunnit känner få till. Idag återstår mindre än 10 procent av Sveriges ursprungliga skogslandskap\, allt annat är planterade skogar\, i allt högre grad monokulturer\, som saknar biologisk mångfald och inte är starka nog att klara klimatförändringarnas utmaningar\, ökande skogsbränder och stormar. ”Lågintensivt och välargumenterat filmiskt debattinlägg om rätten till gamla skogar” – DN. Om skogen är en miljödokumentär regisserad av Peter Magnusson\, som under 10 år ägnat sig åt filmen. Inledare är den uppmärksammade och prisade skogsbiologen Sebastian Kirppu. \n I samverkan med Naturskyddsföreningen i Sigtunabygden\, Nya Omställning Sigtuna och biograf Gröna ladan \n
URL:https://sigtunastiftelsen.se/events/om-skogen/
LOCATION:Sigtunastiftelsen\, Manfred Björkquists allé 4\, Sigtuna\, Sigtuna\, 193 31
CATEGORIES:Film
ATTACH;FMTTYPE=image/jpeg:https://sigtunastiftelsen.se/wp-content/uploads/2021/07/Sebastian-Kirppux250.jpg
ORGANIZER;CN="Sigtunastiftelsen":MAILTO:info@sigtunastiftelsen.se
END:VEVENT
END:VCALENDAR