BEGIN:VCALENDAR
VERSION:2.0
PRODID:-//Sigtunastiftelsen - ECPv4.6.25//NONSGML v1.0//EN
CALSCALE:GREGORIAN
METHOD:PUBLISH
X-WR-CALNAME:Sigtunastiftelsen
X-ORIGINAL-URL:https://sigtunastiftelsen.se
X-WR-CALDESC:Events for Sigtunastiftelsen
BEGIN:VEVENT
DTSTART;TZID=UTC+1:20260207T130000
DTEND;TZID=UTC+1:20260207T150000
DTSTAMP:20260422T230012
CREATED:20241217T132008Z
LAST-MODIFIED:20260302T142722Z
UID:35504-1770469200-1770476400@sigtunastiftelsen.se
SUMMARY:Öppet i Gunnar Ekelöf-rummet
DESCRIPTION:På Sigtunastiftelsen finns Gunnar Ekelöf-rummet. Avsikten med rummet är att för framtiden bevara delar av författaren Gunnar Ekelöfs (1907 – 1968) arbetsmiljö med de böcker och övriga inventarier som fanns i hans hem i Sigtuna. I rummet finns dessutom det intressanta hemarkiv som hans hustru Ingrid iordningställde\, i vilket man kan följa tillkomsten av hans verk.\nGunnar Ekelöfs privata arbetsbibliotek är författarens privata bibliotek (cirka 400 band donerat 1997). Specialsamlingen är också placerad i Ekelöf-rummet på Sigtunastiftelsen. Hemarkivet är tillgängligt för forskare efter överenskommelse.\nRummet är öppet för alla intresserade av Ekelöfs liv och diktning\, och visas en lördag varje månad 13.00 – 15.00. Besöket är kostnadsfritt och ingen anmälan krävs. Övrig tid efter beställning hos Bo Alström\, 08 – 592 542 41. För mer information kontakta program@sigtunastiftelsen.se 08 – 592 589 85 \nSamverkan med Gunnar Ekelöf-sällskapet. \n
URL:https://sigtunastiftelsen.se/events/oppet-i-gunnar-ekelof-rummet/
LOCATION:Sigtunastiftelsen\, Manfred Björkquists allé 4\, Sigtuna\, Sigtuna\, 193 31
CATEGORIES:Kultur & Bildning
ATTACH;FMTTYPE=image/jpeg:https://sigtunastiftelsen.se/wp-content/uploads/2018/09/282-188-Ekelof-i-bokhylla-1.7-06-SH_250x165-2.jpg
ORGANIZER;CN="Sigtunastiftelsen":MAILTO:info@sigtunastiftelsen.se
END:VEVENT
END:VCALENDAR